BEGIN:VCALENDAR
VERSION:2.0
PRODID:-//Friends of the Oak Park Conservatory - ECPv6.15.20//NONSGML v1.0//EN
CALSCALE:GREGORIAN
METHOD:PUBLISH
X-WR-CALNAME:Friends of the Oak Park Conservatory
X-ORIGINAL-URL:https://fopcon.org
X-WR-CALDESC:Events for Friends of the Oak Park Conservatory
REFRESH-INTERVAL;VALUE=DURATION:PT1H
X-Robots-Tag:noindex
X-PUBLISHED-TTL:PT1H
BEGIN:VTIMEZONE
TZID:America/Chicago
BEGIN:DAYLIGHT
TZOFFSETFROM:-0600
TZOFFSETTO:-0500
TZNAME:CDT
DTSTART:20250309T080000
END:DAYLIGHT
BEGIN:STANDARD
TZOFFSETFROM:-0500
TZOFFSETTO:-0600
TZNAME:CST
DTSTART:20251102T070000
END:STANDARD
BEGIN:DAYLIGHT
TZOFFSETFROM:-0600
TZOFFSETTO:-0500
TZNAME:CDT
DTSTART:20260308T080000
END:DAYLIGHT
BEGIN:STANDARD
TZOFFSETFROM:-0500
TZOFFSETTO:-0600
TZNAME:CST
DTSTART:20261101T070000
END:STANDARD
BEGIN:DAYLIGHT
TZOFFSETFROM:-0600
TZOFFSETTO:-0500
TZNAME:CDT
DTSTART:20270314T080000
END:DAYLIGHT
BEGIN:STANDARD
TZOFFSETFROM:-0500
TZOFFSETTO:-0600
TZNAME:CST
DTSTART:20271107T070000
END:STANDARD
END:VTIMEZONE
BEGIN:VEVENT
DTSTART;TZID=America/Chicago:20260628T100000
DTEND;TZID=America/Chicago:20260628T160000
DTSTAMP:20260424T090936
CREATED:20260121T192839Z
LAST-MODIFIED:20260422T185753Z
UID:10001610-1782640800-1782662400@fopcon.org
SUMMARY:32nd Annual Garden Walk
DESCRIPTION:Mark your calendars for the 32nd annual Garden Walk in Oak Park and River Forest. Enjoy a self-guided tour featuring unique private and public gardens. Tickets go on sale May 1 at fopcon.org or gcoprf.org. Members of FOPCON and GCOPRF are eligible for discounted tickets. Transportation is not provided. Children 12 and under are free.  \nMore details on our Garden Walk page. \nPresented by the Friends of the Oak Park Conservatory (FOPCON) and the Garden Club of Oak Park and River Forest (GCOPRF). Proceeds from the Walk benefit the missions of both organizations.
URL:https://fopcon.org/event/32-annual-garden-walk/
CATEGORIES:Annual Events,General,Upcoming Events
ATTACH;FMTTYPE=image/jpeg:https://fopcon.org/wp-content/uploads/2019/05/GardenWalk2019-2-e1745604924183.jpg
END:VEVENT
BEGIN:VEVENT
DTSTART;TZID=America/Chicago:20260701T130000
DTEND;TZID=America/Chicago:20260701T150000
DTSTAMP:20260424T090936
CREATED:20251210T160456Z
LAST-MODIFIED:20251210T160456Z
UID:10000644-1782910800-1782918000@fopcon.org
SUMMARY:Plant Help Desk
DESCRIPTION:Every Wednesday from 1-3 pm: Plant Help Desk at the Oak Park Conservatory. Bring your plant questions and issues to our Friends of the Oak Park Conservatory volunteer expert who will help you on the spot. Bring a plant to be repotted too. Email inquiries to oakparkconservatory@pdop.org or call 708-725-2456\, ext. 2. This is a new free service for the community.
URL:https://fopcon.org/event/plant-help-desk-2-2/2026-07-01/
LOCATION:Oak Park Conservatory\, 615 Garfield\, Oak Park\, IL\, 60304\, United States
ATTACH;FMTTYPE=image/jpeg:https://fopcon.org/wp-content/uploads/2024/04/IMG_2836-1-scaled-e1730402501863.jpeg
END:VEVENT
BEGIN:VEVENT
DTSTART;TZID=America/Chicago:20260708T130000
DTEND;TZID=America/Chicago:20260708T150000
DTSTAMP:20260424T090936
CREATED:20251210T160456Z
LAST-MODIFIED:20251210T160456Z
UID:10000645-1783515600-1783522800@fopcon.org
SUMMARY:Plant Help Desk
DESCRIPTION:Every Wednesday from 1-3 pm: Plant Help Desk at the Oak Park Conservatory. Bring your plant questions and issues to our Friends of the Oak Park Conservatory volunteer expert who will help you on the spot. Bring a plant to be repotted too. Email inquiries to oakparkconservatory@pdop.org or call 708-725-2456\, ext. 2. This is a new free service for the community.
URL:https://fopcon.org/event/plant-help-desk-2-2/2026-07-08/
LOCATION:Oak Park Conservatory\, 615 Garfield\, Oak Park\, IL\, 60304\, United States
ATTACH;FMTTYPE=image/jpeg:https://fopcon.org/wp-content/uploads/2024/04/IMG_2836-1-scaled-e1730402501863.jpeg
END:VEVENT
BEGIN:VEVENT
DTSTART;TZID=America/Chicago:20260715T130000
DTEND;TZID=America/Chicago:20260715T150000
DTSTAMP:20260424T090936
CREATED:20251210T160456Z
LAST-MODIFIED:20251210T160456Z
UID:10000646-1784120400-1784127600@fopcon.org
SUMMARY:Plant Help Desk
DESCRIPTION:Every Wednesday from 1-3 pm: Plant Help Desk at the Oak Park Conservatory. Bring your plant questions and issues to our Friends of the Oak Park Conservatory volunteer expert who will help you on the spot. Bring a plant to be repotted too. Email inquiries to oakparkconservatory@pdop.org or call 708-725-2456\, ext. 2. This is a new free service for the community.
URL:https://fopcon.org/event/plant-help-desk-2-2/2026-07-15/
LOCATION:Oak Park Conservatory\, 615 Garfield\, Oak Park\, IL\, 60304\, United States
ATTACH;FMTTYPE=image/jpeg:https://fopcon.org/wp-content/uploads/2024/04/IMG_2836-1-scaled-e1730402501863.jpeg
END:VEVENT
BEGIN:VEVENT
DTSTART;TZID=America/Chicago:20260722T130000
DTEND;TZID=America/Chicago:20260722T150000
DTSTAMP:20260424T090936
CREATED:20251210T160456Z
LAST-MODIFIED:20251210T160456Z
UID:10000647-1784725200-1784732400@fopcon.org
SUMMARY:Plant Help Desk
DESCRIPTION:Every Wednesday from 1-3 pm: Plant Help Desk at the Oak Park Conservatory. Bring your plant questions and issues to our Friends of the Oak Park Conservatory volunteer expert who will help you on the spot. Bring a plant to be repotted too. Email inquiries to oakparkconservatory@pdop.org or call 708-725-2456\, ext. 2. This is a new free service for the community.
URL:https://fopcon.org/event/plant-help-desk-2-2/2026-07-22/
LOCATION:Oak Park Conservatory\, 615 Garfield\, Oak Park\, IL\, 60304\, United States
ATTACH;FMTTYPE=image/jpeg:https://fopcon.org/wp-content/uploads/2024/04/IMG_2836-1-scaled-e1730402501863.jpeg
END:VEVENT
BEGIN:VEVENT
DTSTART;TZID=America/Chicago:20260724T180000
DTEND;TZID=America/Chicago:20260724T200000
DTSTAMP:20260424T090936
CREATED:20260326T180821Z
LAST-MODIFIED:20260422T191523Z
UID:10001658-1784916000-1784923200@fopcon.org
SUMMARY:Uncorked 2026
DESCRIPTION:Summertime is the best time to enjoy an evening of music and drinks at the Oak Park Conservatory. Celebrate summer in the Rubinstein Garden with friends under the night sky. Presented by the Friends of the Oak Park Conservatory.  Admission includes two drink tickets\, an appetizer\, and a guided tour of the showrooms. \nTickets are $25. Advance sales only. Tickets will not be sold at the door. FOPCON members receive a 20% discount. Contact operations@fopcon.org for a discount code before registering. Tickets are $25 ($20 for FOPCON Members) \nDetails: \nJuly 24: Featuring music by Meisha Herron. Food provided by Happy Apple Pie Shop. Artisan: Todd and Holland. Register here. \nAugust 21: Featuring music by Rosemary Szurko Trio. Food provided by Taco Mucho. Artisan: Karma and Spice. Register here. \nSeptember 18: Featuring music by The Replays. Food provided by Grape Leaves. Artisan: River Forest Chocolates. Register here.
URL:https://fopcon.org/event/uncorked-2026/
LOCATION:Oak Park Conservatory\, 615 Garfield\, Oak Park\, IL\, 60304\, United States
CATEGORIES:Community Events,Featured Events,General,Upcoming Events
ATTACH;FMTTYPE=image/png:https://fopcon.org/wp-content/uploads/2025/06/Event-Pictures-600x300-1.png
END:VEVENT
BEGIN:VEVENT
DTSTART;TZID=America/Chicago:20260729T130000
DTEND;TZID=America/Chicago:20260729T150000
DTSTAMP:20260424T090936
CREATED:20251210T160456Z
LAST-MODIFIED:20251210T160456Z
UID:10000648-1785330000-1785337200@fopcon.org
SUMMARY:Plant Help Desk
DESCRIPTION:Every Wednesday from 1-3 pm: Plant Help Desk at the Oak Park Conservatory. Bring your plant questions and issues to our Friends of the Oak Park Conservatory volunteer expert who will help you on the spot. Bring a plant to be repotted too. Email inquiries to oakparkconservatory@pdop.org or call 708-725-2456\, ext. 2. This is a new free service for the community.
URL:https://fopcon.org/event/plant-help-desk-2-2/2026-07-29/
LOCATION:Oak Park Conservatory\, 615 Garfield\, Oak Park\, IL\, 60304\, United States
ATTACH;FMTTYPE=image/jpeg:https://fopcon.org/wp-content/uploads/2024/04/IMG_2836-1-scaled-e1730402501863.jpeg
END:VEVENT
BEGIN:VEVENT
DTSTART;TZID=America/Chicago:20260805T130000
DTEND;TZID=America/Chicago:20260805T150000
DTSTAMP:20260424T090936
CREATED:20251210T160456Z
LAST-MODIFIED:20251210T160456Z
UID:10000649-1785934800-1785942000@fopcon.org
SUMMARY:Plant Help Desk
DESCRIPTION:Every Wednesday from 1-3 pm: Plant Help Desk at the Oak Park Conservatory. Bring your plant questions and issues to our Friends of the Oak Park Conservatory volunteer expert who will help you on the spot. Bring a plant to be repotted too. Email inquiries to oakparkconservatory@pdop.org or call 708-725-2456\, ext. 2. This is a new free service for the community.
URL:https://fopcon.org/event/plant-help-desk-2-2/2026-08-05/
LOCATION:Oak Park Conservatory\, 615 Garfield\, Oak Park\, IL\, 60304\, United States
ATTACH;FMTTYPE=image/jpeg:https://fopcon.org/wp-content/uploads/2024/04/IMG_2836-1-scaled-e1730402501863.jpeg
END:VEVENT
BEGIN:VEVENT
DTSTART;TZID=America/Chicago:20260812T130000
DTEND;TZID=America/Chicago:20260812T150000
DTSTAMP:20260424T090936
CREATED:20251210T160456Z
LAST-MODIFIED:20251210T160456Z
UID:10000650-1786539600-1786546800@fopcon.org
SUMMARY:Plant Help Desk
DESCRIPTION:Every Wednesday from 1-3 pm: Plant Help Desk at the Oak Park Conservatory. Bring your plant questions and issues to our Friends of the Oak Park Conservatory volunteer expert who will help you on the spot. Bring a plant to be repotted too. Email inquiries to oakparkconservatory@pdop.org or call 708-725-2456\, ext. 2. This is a new free service for the community.
URL:https://fopcon.org/event/plant-help-desk-2-2/2026-08-12/
LOCATION:Oak Park Conservatory\, 615 Garfield\, Oak Park\, IL\, 60304\, United States
ATTACH;FMTTYPE=image/jpeg:https://fopcon.org/wp-content/uploads/2024/04/IMG_2836-1-scaled-e1730402501863.jpeg
END:VEVENT
BEGIN:VEVENT
DTSTART;TZID=America/Chicago:20260819T130000
DTEND;TZID=America/Chicago:20260819T150000
DTSTAMP:20260424T090936
CREATED:20251210T160456Z
LAST-MODIFIED:20251210T160456Z
UID:10000651-1787144400-1787151600@fopcon.org
SUMMARY:Plant Help Desk
DESCRIPTION:Every Wednesday from 1-3 pm: Plant Help Desk at the Oak Park Conservatory. Bring your plant questions and issues to our Friends of the Oak Park Conservatory volunteer expert who will help you on the spot. Bring a plant to be repotted too. Email inquiries to oakparkconservatory@pdop.org or call 708-725-2456\, ext. 2. This is a new free service for the community.
URL:https://fopcon.org/event/plant-help-desk-2-2/2026-08-19/
LOCATION:Oak Park Conservatory\, 615 Garfield\, Oak Park\, IL\, 60304\, United States
ATTACH;FMTTYPE=image/jpeg:https://fopcon.org/wp-content/uploads/2024/04/IMG_2836-1-scaled-e1730402501863.jpeg
END:VEVENT
BEGIN:VEVENT
DTSTART;TZID=America/Chicago:20260821T180000
DTEND;TZID=America/Chicago:20260821T200000
DTSTAMP:20260424T090936
CREATED:20260326T180857Z
LAST-MODIFIED:20260422T191547Z
UID:10001659-1787335200-1787342400@fopcon.org
SUMMARY:Uncorked 2026
DESCRIPTION:Summertime is the best time to enjoy an evening of music and drinks at the Oak Park Conservatory. Celebrate summer in the Rubinstein Garden with friends under the night sky. Presented by the Friends of the Oak Park Conservatory.  Admission includes two drink tickets\, an appetizer\, and a guided tour of the showrooms. \nTickets are $25. Advance sales only. Tickets will not be sold at the door. FOPCON members receive a 20% discount. Contact operations@fopcon.org for a discount code before registering. Tickets are $25 ($20 for FOPCON Members) \nDetails: \nAugust 21: Featuring music by Rosemary Szurko Trio. Food provided by Taco Mucho. Artisan: Karma and Spice. Register here. \nSeptember 18: Featuring music by The Replays. Food provided by Grape Leaves. Artisan: River Forest Chocolates. Register here.
URL:https://fopcon.org/event/uncorked-2026-2/
LOCATION:Oak Park Conservatory\, 615 Garfield\, Oak Park\, IL\, 60304\, United States
CATEGORIES:Community Events,Featured Events,General,Upcoming Events
ATTACH;FMTTYPE=image/png:https://fopcon.org/wp-content/uploads/2025/06/Event-Pictures-600x300-1.png
END:VEVENT
BEGIN:VEVENT
DTSTART;TZID=America/Chicago:20260826T130000
DTEND;TZID=America/Chicago:20260826T150000
DTSTAMP:20260424T090936
CREATED:20251210T160456Z
LAST-MODIFIED:20251210T160456Z
UID:10000652-1787749200-1787756400@fopcon.org
SUMMARY:Plant Help Desk
DESCRIPTION:Every Wednesday from 1-3 pm: Plant Help Desk at the Oak Park Conservatory. Bring your plant questions and issues to our Friends of the Oak Park Conservatory volunteer expert who will help you on the spot. Bring a plant to be repotted too. Email inquiries to oakparkconservatory@pdop.org or call 708-725-2456\, ext. 2. This is a new free service for the community.
URL:https://fopcon.org/event/plant-help-desk-2-2/2026-08-26/
LOCATION:Oak Park Conservatory\, 615 Garfield\, Oak Park\, IL\, 60304\, United States
ATTACH;FMTTYPE=image/jpeg:https://fopcon.org/wp-content/uploads/2024/04/IMG_2836-1-scaled-e1730402501863.jpeg
END:VEVENT
BEGIN:VEVENT
DTSTART;TZID=America/Chicago:20260902T130000
DTEND;TZID=America/Chicago:20260902T150000
DTSTAMP:20260424T090936
CREATED:20251210T160456Z
LAST-MODIFIED:20251210T160456Z
UID:10000653-1788354000-1788361200@fopcon.org
SUMMARY:Plant Help Desk
DESCRIPTION:Every Wednesday from 1-3 pm: Plant Help Desk at the Oak Park Conservatory. Bring your plant questions and issues to our Friends of the Oak Park Conservatory volunteer expert who will help you on the spot. Bring a plant to be repotted too. Email inquiries to oakparkconservatory@pdop.org or call 708-725-2456\, ext. 2. This is a new free service for the community.
URL:https://fopcon.org/event/plant-help-desk-2-2/2026-09-02/
LOCATION:Oak Park Conservatory\, 615 Garfield\, Oak Park\, IL\, 60304\, United States
ATTACH;FMTTYPE=image/jpeg:https://fopcon.org/wp-content/uploads/2024/04/IMG_2836-1-scaled-e1730402501863.jpeg
END:VEVENT
BEGIN:VEVENT
DTSTART;TZID=America/Chicago:20260909T130000
DTEND;TZID=America/Chicago:20260909T150000
DTSTAMP:20260424T090936
CREATED:20251210T160456Z
LAST-MODIFIED:20251210T160456Z
UID:10000654-1788958800-1788966000@fopcon.org
SUMMARY:Plant Help Desk
DESCRIPTION:Every Wednesday from 1-3 pm: Plant Help Desk at the Oak Park Conservatory. Bring your plant questions and issues to our Friends of the Oak Park Conservatory volunteer expert who will help you on the spot. Bring a plant to be repotted too. Email inquiries to oakparkconservatory@pdop.org or call 708-725-2456\, ext. 2. This is a new free service for the community.
URL:https://fopcon.org/event/plant-help-desk-2-2/2026-09-09/
LOCATION:Oak Park Conservatory\, 615 Garfield\, Oak Park\, IL\, 60304\, United States
ATTACH;FMTTYPE=image/jpeg:https://fopcon.org/wp-content/uploads/2024/04/IMG_2836-1-scaled-e1730402501863.jpeg
END:VEVENT
BEGIN:VEVENT
DTSTART;TZID=America/Chicago:20260916T130000
DTEND;TZID=America/Chicago:20260916T150000
DTSTAMP:20260424T090936
CREATED:20251210T160456Z
LAST-MODIFIED:20251210T160456Z
UID:10000655-1789563600-1789570800@fopcon.org
SUMMARY:Plant Help Desk
DESCRIPTION:Every Wednesday from 1-3 pm: Plant Help Desk at the Oak Park Conservatory. Bring your plant questions and issues to our Friends of the Oak Park Conservatory volunteer expert who will help you on the spot. Bring a plant to be repotted too. Email inquiries to oakparkconservatory@pdop.org or call 708-725-2456\, ext. 2. This is a new free service for the community.
URL:https://fopcon.org/event/plant-help-desk-2-2/2026-09-16/
LOCATION:Oak Park Conservatory\, 615 Garfield\, Oak Park\, IL\, 60304\, United States
ATTACH;FMTTYPE=image/jpeg:https://fopcon.org/wp-content/uploads/2024/04/IMG_2836-1-scaled-e1730402501863.jpeg
END:VEVENT
BEGIN:VEVENT
DTSTART;TZID=America/Chicago:20260918T180000
DTEND;TZID=America/Chicago:20260918T200000
DTSTAMP:20260424T090936
CREATED:20260326T181003Z
LAST-MODIFIED:20260422T191420Z
UID:10001660-1789754400-1789761600@fopcon.org
SUMMARY:Uncorked 2026
DESCRIPTION:Summertime is the best time to enjoy an evening of music and drinks at the Oak Park Conservatory. Celebrate summer in the Rubinstein Garden with friends under the night sky. Presented by the Friends of the Oak Park Conservatory.  Admission includes two drink tickets\, an appetizer\, and a guided tour of the showrooms. \nTickets are $25. Advance sales only. Tickets will not be sold at the door. FOPCON members receive a 20% discount. Contact operations@fopcon.org for a discount code before registering. Tickets are $25 ($20 for FOPCON Members) \nDetails: \nSeptember 18: Featuring music by The Replays. Food provided by Grape Leaves. Artisan: River Forest Chocolates. Register here.
URL:https://fopcon.org/event/uncorked-2026-3/
LOCATION:Oak Park Conservatory\, 615 Garfield\, Oak Park\, IL\, 60304\, United States
CATEGORIES:Community Events,Featured Events,General,Upcoming Events
ATTACH;FMTTYPE=image/png:https://fopcon.org/wp-content/uploads/2025/06/Event-Pictures-600x300-1.png
END:VEVENT
BEGIN:VEVENT
DTSTART;TZID=America/Chicago:20260923T130000
DTEND;TZID=America/Chicago:20260923T150000
DTSTAMP:20260424T090936
CREATED:20251210T160456Z
LAST-MODIFIED:20251210T160456Z
UID:10000656-1790168400-1790175600@fopcon.org
SUMMARY:Plant Help Desk
DESCRIPTION:Every Wednesday from 1-3 pm: Plant Help Desk at the Oak Park Conservatory. Bring your plant questions and issues to our Friends of the Oak Park Conservatory volunteer expert who will help you on the spot. Bring a plant to be repotted too. Email inquiries to oakparkconservatory@pdop.org or call 708-725-2456\, ext. 2. This is a new free service for the community.
URL:https://fopcon.org/event/plant-help-desk-2-2/2026-09-23/
LOCATION:Oak Park Conservatory\, 615 Garfield\, Oak Park\, IL\, 60304\, United States
ATTACH;FMTTYPE=image/jpeg:https://fopcon.org/wp-content/uploads/2024/04/IMG_2836-1-scaled-e1730402501863.jpeg
END:VEVENT
BEGIN:VEVENT
DTSTART;TZID=America/Chicago:20260930T130000
DTEND;TZID=America/Chicago:20260930T150000
DTSTAMP:20260424T090936
CREATED:20251210T160456Z
LAST-MODIFIED:20251210T160456Z
UID:10000657-1790773200-1790780400@fopcon.org
SUMMARY:Plant Help Desk
DESCRIPTION:Every Wednesday from 1-3 pm: Plant Help Desk at the Oak Park Conservatory. Bring your plant questions and issues to our Friends of the Oak Park Conservatory volunteer expert who will help you on the spot. Bring a plant to be repotted too. Email inquiries to oakparkconservatory@pdop.org or call 708-725-2456\, ext. 2. This is a new free service for the community.
URL:https://fopcon.org/event/plant-help-desk-2-2/2026-09-30/
LOCATION:Oak Park Conservatory\, 615 Garfield\, Oak Park\, IL\, 60304\, United States
ATTACH;FMTTYPE=image/jpeg:https://fopcon.org/wp-content/uploads/2024/04/IMG_2836-1-scaled-e1730402501863.jpeg
END:VEVENT
BEGIN:VEVENT
DTSTART;TZID=America/Chicago:20261007T130000
DTEND;TZID=America/Chicago:20261007T150000
DTSTAMP:20260424T090936
CREATED:20251210T160456Z
LAST-MODIFIED:20251210T160456Z
UID:10000658-1791378000-1791385200@fopcon.org
SUMMARY:Plant Help Desk
DESCRIPTION:Every Wednesday from 1-3 pm: Plant Help Desk at the Oak Park Conservatory. Bring your plant questions and issues to our Friends of the Oak Park Conservatory volunteer expert who will help you on the spot. Bring a plant to be repotted too. Email inquiries to oakparkconservatory@pdop.org or call 708-725-2456\, ext. 2. This is a new free service for the community.
URL:https://fopcon.org/event/plant-help-desk-2-2/2026-10-07/
LOCATION:Oak Park Conservatory\, 615 Garfield\, Oak Park\, IL\, 60304\, United States
ATTACH;FMTTYPE=image/jpeg:https://fopcon.org/wp-content/uploads/2024/04/IMG_2836-1-scaled-e1730402501863.jpeg
END:VEVENT
BEGIN:VEVENT
DTSTART;TZID=America/Chicago:20261014T130000
DTEND;TZID=America/Chicago:20261014T150000
DTSTAMP:20260424T090936
CREATED:20251210T160456Z
LAST-MODIFIED:20251210T160456Z
UID:10000659-1791982800-1791990000@fopcon.org
SUMMARY:Plant Help Desk
DESCRIPTION:Every Wednesday from 1-3 pm: Plant Help Desk at the Oak Park Conservatory. Bring your plant questions and issues to our Friends of the Oak Park Conservatory volunteer expert who will help you on the spot. Bring a plant to be repotted too. Email inquiries to oakparkconservatory@pdop.org or call 708-725-2456\, ext. 2. This is a new free service for the community.
URL:https://fopcon.org/event/plant-help-desk-2-2/2026-10-14/
LOCATION:Oak Park Conservatory\, 615 Garfield\, Oak Park\, IL\, 60304\, United States
ATTACH;FMTTYPE=image/jpeg:https://fopcon.org/wp-content/uploads/2024/04/IMG_2836-1-scaled-e1730402501863.jpeg
END:VEVENT
BEGIN:VEVENT
DTSTART;TZID=America/Chicago:20261021T130000
DTEND;TZID=America/Chicago:20261021T150000
DTSTAMP:20260424T090936
CREATED:20251210T160456Z
LAST-MODIFIED:20251210T160456Z
UID:10000660-1792587600-1792594800@fopcon.org
SUMMARY:Plant Help Desk
DESCRIPTION:Every Wednesday from 1-3 pm: Plant Help Desk at the Oak Park Conservatory. Bring your plant questions and issues to our Friends of the Oak Park Conservatory volunteer expert who will help you on the spot. Bring a plant to be repotted too. Email inquiries to oakparkconservatory@pdop.org or call 708-725-2456\, ext. 2. This is a new free service for the community.
URL:https://fopcon.org/event/plant-help-desk-2-2/2026-10-21/
LOCATION:Oak Park Conservatory\, 615 Garfield\, Oak Park\, IL\, 60304\, United States
ATTACH;FMTTYPE=image/jpeg:https://fopcon.org/wp-content/uploads/2024/04/IMG_2836-1-scaled-e1730402501863.jpeg
END:VEVENT
BEGIN:VEVENT
DTSTART;TZID=America/Chicago:20261028T130000
DTEND;TZID=America/Chicago:20261028T150000
DTSTAMP:20260424T090936
CREATED:20251210T160456Z
LAST-MODIFIED:20251210T160456Z
UID:10000661-1793192400-1793199600@fopcon.org
SUMMARY:Plant Help Desk
DESCRIPTION:Every Wednesday from 1-3 pm: Plant Help Desk at the Oak Park Conservatory. Bring your plant questions and issues to our Friends of the Oak Park Conservatory volunteer expert who will help you on the spot. Bring a plant to be repotted too. Email inquiries to oakparkconservatory@pdop.org or call 708-725-2456\, ext. 2. This is a new free service for the community.
URL:https://fopcon.org/event/plant-help-desk-2-2/2026-10-28/
LOCATION:Oak Park Conservatory\, 615 Garfield\, Oak Park\, IL\, 60304\, United States
ATTACH;FMTTYPE=image/jpeg:https://fopcon.org/wp-content/uploads/2024/04/IMG_2836-1-scaled-e1730402501863.jpeg
END:VEVENT
BEGIN:VEVENT
DTSTART;TZID=America/Chicago:20261104T130000
DTEND;TZID=America/Chicago:20261104T150000
DTSTAMP:20260424T090936
CREATED:20251210T160456Z
LAST-MODIFIED:20251210T160456Z
UID:10000662-1793797200-1793804400@fopcon.org
SUMMARY:Plant Help Desk
DESCRIPTION:Every Wednesday from 1-3 pm: Plant Help Desk at the Oak Park Conservatory. Bring your plant questions and issues to our Friends of the Oak Park Conservatory volunteer expert who will help you on the spot. Bring a plant to be repotted too. Email inquiries to oakparkconservatory@pdop.org or call 708-725-2456\, ext. 2. This is a new free service for the community.
URL:https://fopcon.org/event/plant-help-desk-2-2/2026-11-04/
LOCATION:Oak Park Conservatory\, 615 Garfield\, Oak Park\, IL\, 60304\, United States
ATTACH;FMTTYPE=image/jpeg:https://fopcon.org/wp-content/uploads/2024/04/IMG_2836-1-scaled-e1730402501863.jpeg
END:VEVENT
BEGIN:VEVENT
DTSTART;TZID=America/Chicago:20261111T130000
DTEND;TZID=America/Chicago:20261111T150000
DTSTAMP:20260424T090936
CREATED:20251210T160456Z
LAST-MODIFIED:20251210T160456Z
UID:10000663-1794402000-1794409200@fopcon.org
SUMMARY:Plant Help Desk
DESCRIPTION:Every Wednesday from 1-3 pm: Plant Help Desk at the Oak Park Conservatory. Bring your plant questions and issues to our Friends of the Oak Park Conservatory volunteer expert who will help you on the spot. Bring a plant to be repotted too. Email inquiries to oakparkconservatory@pdop.org or call 708-725-2456\, ext. 2. This is a new free service for the community.
URL:https://fopcon.org/event/plant-help-desk-2-2/2026-11-11/
LOCATION:Oak Park Conservatory\, 615 Garfield\, Oak Park\, IL\, 60304\, United States
ATTACH;FMTTYPE=image/jpeg:https://fopcon.org/wp-content/uploads/2024/04/IMG_2836-1-scaled-e1730402501863.jpeg
END:VEVENT
BEGIN:VEVENT
DTSTART;TZID=America/Chicago:20261118T130000
DTEND;TZID=America/Chicago:20261118T150000
DTSTAMP:20260424T090936
CREATED:20251210T160456Z
LAST-MODIFIED:20251210T160456Z
UID:10000664-1795006800-1795014000@fopcon.org
SUMMARY:Plant Help Desk
DESCRIPTION:Every Wednesday from 1-3 pm: Plant Help Desk at the Oak Park Conservatory. Bring your plant questions and issues to our Friends of the Oak Park Conservatory volunteer expert who will help you on the spot. Bring a plant to be repotted too. Email inquiries to oakparkconservatory@pdop.org or call 708-725-2456\, ext. 2. This is a new free service for the community.
URL:https://fopcon.org/event/plant-help-desk-2-2/2026-11-18/
LOCATION:Oak Park Conservatory\, 615 Garfield\, Oak Park\, IL\, 60304\, United States
ATTACH;FMTTYPE=image/jpeg:https://fopcon.org/wp-content/uploads/2024/04/IMG_2836-1-scaled-e1730402501863.jpeg
END:VEVENT
BEGIN:VEVENT
DTSTART;TZID=America/Chicago:20261125T130000
DTEND;TZID=America/Chicago:20261125T150000
DTSTAMP:20260424T090936
CREATED:20251210T160456Z
LAST-MODIFIED:20251210T160456Z
UID:10000665-1795611600-1795618800@fopcon.org
SUMMARY:Plant Help Desk
DESCRIPTION:Every Wednesday from 1-3 pm: Plant Help Desk at the Oak Park Conservatory. Bring your plant questions and issues to our Friends of the Oak Park Conservatory volunteer expert who will help you on the spot. Bring a plant to be repotted too. Email inquiries to oakparkconservatory@pdop.org or call 708-725-2456\, ext. 2. This is a new free service for the community.
URL:https://fopcon.org/event/plant-help-desk-2-2/2026-11-25/
LOCATION:Oak Park Conservatory\, 615 Garfield\, Oak Park\, IL\, 60304\, United States
ATTACH;FMTTYPE=image/jpeg:https://fopcon.org/wp-content/uploads/2024/04/IMG_2836-1-scaled-e1730402501863.jpeg
END:VEVENT
BEGIN:VEVENT
DTSTART;TZID=America/Chicago:20261202T130000
DTEND;TZID=America/Chicago:20261202T150000
DTSTAMP:20260424T090936
CREATED:20251210T160456Z
LAST-MODIFIED:20251210T160456Z
UID:10000666-1796216400-1796223600@fopcon.org
SUMMARY:Plant Help Desk
DESCRIPTION:Every Wednesday from 1-3 pm: Plant Help Desk at the Oak Park Conservatory. Bring your plant questions and issues to our Friends of the Oak Park Conservatory volunteer expert who will help you on the spot. Bring a plant to be repotted too. Email inquiries to oakparkconservatory@pdop.org or call 708-725-2456\, ext. 2. This is a new free service for the community.
URL:https://fopcon.org/event/plant-help-desk-2-2/2026-12-02/
LOCATION:Oak Park Conservatory\, 615 Garfield\, Oak Park\, IL\, 60304\, United States
ATTACH;FMTTYPE=image/jpeg:https://fopcon.org/wp-content/uploads/2024/04/IMG_2836-1-scaled-e1730402501863.jpeg
END:VEVENT
BEGIN:VEVENT
DTSTART;TZID=America/Chicago:20261209T130000
DTEND;TZID=America/Chicago:20261209T150000
DTSTAMP:20260424T090936
CREATED:20251210T160456Z
LAST-MODIFIED:20251210T160456Z
UID:10000667-1796821200-1796828400@fopcon.org
SUMMARY:Plant Help Desk
DESCRIPTION:Every Wednesday from 1-3 pm: Plant Help Desk at the Oak Park Conservatory. Bring your plant questions and issues to our Friends of the Oak Park Conservatory volunteer expert who will help you on the spot. Bring a plant to be repotted too. Email inquiries to oakparkconservatory@pdop.org or call 708-725-2456\, ext. 2. This is a new free service for the community.
URL:https://fopcon.org/event/plant-help-desk-2-2/2026-12-09/
LOCATION:Oak Park Conservatory\, 615 Garfield\, Oak Park\, IL\, 60304\, United States
ATTACH;FMTTYPE=image/jpeg:https://fopcon.org/wp-content/uploads/2024/04/IMG_2836-1-scaled-e1730402501863.jpeg
END:VEVENT
BEGIN:VEVENT
DTSTART;TZID=America/Chicago:20261216T130000
DTEND;TZID=America/Chicago:20261216T150000
DTSTAMP:20260424T090936
CREATED:20251210T160456Z
LAST-MODIFIED:20251210T160456Z
UID:10000668-1797426000-1797433200@fopcon.org
SUMMARY:Plant Help Desk
DESCRIPTION:Every Wednesday from 1-3 pm: Plant Help Desk at the Oak Park Conservatory. Bring your plant questions and issues to our Friends of the Oak Park Conservatory volunteer expert who will help you on the spot. Bring a plant to be repotted too. Email inquiries to oakparkconservatory@pdop.org or call 708-725-2456\, ext. 2. This is a new free service for the community.
URL:https://fopcon.org/event/plant-help-desk-2-2/2026-12-16/
LOCATION:Oak Park Conservatory\, 615 Garfield\, Oak Park\, IL\, 60304\, United States
ATTACH;FMTTYPE=image/jpeg:https://fopcon.org/wp-content/uploads/2024/04/IMG_2836-1-scaled-e1730402501863.jpeg
END:VEVENT
BEGIN:VEVENT
DTSTART;TZID=America/Chicago:20261223T130000
DTEND;TZID=America/Chicago:20261223T150000
DTSTAMP:20260424T090936
CREATED:20251210T160456Z
LAST-MODIFIED:20251210T160456Z
UID:10000669-1798030800-1798038000@fopcon.org
SUMMARY:Plant Help Desk
DESCRIPTION:Every Wednesday from 1-3 pm: Plant Help Desk at the Oak Park Conservatory. Bring your plant questions and issues to our Friends of the Oak Park Conservatory volunteer expert who will help you on the spot. Bring a plant to be repotted too. Email inquiries to oakparkconservatory@pdop.org or call 708-725-2456\, ext. 2. This is a new free service for the community.
URL:https://fopcon.org/event/plant-help-desk-2-2/2026-12-23/
LOCATION:Oak Park Conservatory\, 615 Garfield\, Oak Park\, IL\, 60304\, United States
ATTACH;FMTTYPE=image/jpeg:https://fopcon.org/wp-content/uploads/2024/04/IMG_2836-1-scaled-e1730402501863.jpeg
END:VEVENT
END:VCALENDAR