BEGIN:VCALENDAR
VERSION:2.0
PRODID:-//Friends of the Oak Park Conservatory - ECPv6.15.20//NONSGML v1.0//EN
CALSCALE:GREGORIAN
METHOD:PUBLISH
X-ORIGINAL-URL:https://fopcon.org
X-WR-CALDESC:Events for Friends of the Oak Park Conservatory
REFRESH-INTERVAL;VALUE=DURATION:PT1H
X-Robots-Tag:noindex
X-PUBLISHED-TTL:PT1H
BEGIN:VTIMEZONE
TZID:America/Chicago
BEGIN:DAYLIGHT
TZOFFSETFROM:-0600
TZOFFSETTO:-0500
TZNAME:CDT
DTSTART:20260308T080000
END:DAYLIGHT
BEGIN:STANDARD
TZOFFSETFROM:-0500
TZOFFSETTO:-0600
TZNAME:CST
DTSTART:20261101T070000
END:STANDARD
BEGIN:DAYLIGHT
TZOFFSETFROM:-0600
TZOFFSETTO:-0500
TZNAME:CDT
DTSTART:20270314T080000
END:DAYLIGHT
BEGIN:STANDARD
TZOFFSETFROM:-0500
TZOFFSETTO:-0600
TZNAME:CST
DTSTART:20271107T070000
END:STANDARD
BEGIN:DAYLIGHT
TZOFFSETFROM:-0600
TZOFFSETTO:-0500
TZNAME:CDT
DTSTART:20280312T080000
END:DAYLIGHT
BEGIN:STANDARD
TZOFFSETFROM:-0500
TZOFFSETTO:-0600
TZNAME:CST
DTSTART:20281105T070000
END:STANDARD
BEGIN:DAYLIGHT
TZOFFSETFROM:-0600
TZOFFSETTO:-0500
TZNAME:CDT
DTSTART:20290311T080000
END:DAYLIGHT
BEGIN:STANDARD
TZOFFSETFROM:-0500
TZOFFSETTO:-0600
TZNAME:CST
DTSTART:20291104T070000
END:STANDARD
END:VTIMEZONE
BEGIN:VEVENT
DTSTART;TZID=America/Chicago:20270728T130000
DTEND;TZID=America/Chicago:20270728T150000
DTSTAMP:20260424T170024
CREATED:20251210T160456Z
LAST-MODIFIED:20251210T160456Z
UID:10000700-1816779600-1816786800@fopcon.org
SUMMARY:Plant Help Desk
DESCRIPTION:Every Wednesday from 1-3 pm: Plant Help Desk at the Oak Park Conservatory. Bring your plant questions and issues to our Friends of the Oak Park Conservatory volunteer expert who will help you on the spot. Bring a plant to be repotted too. Email inquiries to oakparkconservatory@pdop.org or call 708-725-2456\, ext. 2. This is a new free service for the community.
URL:https://fopcon.org/event/plant-help-desk-2-2/2027-07-28/
LOCATION:Oak Park Conservatory\, 615 Garfield\, Oak Park\, IL\, 60304\, United States
ATTACH;FMTTYPE=image/jpeg:https://fopcon.org/wp-content/uploads/2024/04/IMG_2836-1-scaled-e1730402501863.jpeg
END:VEVENT
BEGIN:VEVENT
DTSTART;TZID=America/Chicago:20270804T130000
DTEND;TZID=America/Chicago:20270804T150000
DTSTAMP:20260424T170024
CREATED:20251210T160456Z
LAST-MODIFIED:20251210T160456Z
UID:10000701-1817384400-1817391600@fopcon.org
SUMMARY:Plant Help Desk
DESCRIPTION:Every Wednesday from 1-3 pm: Plant Help Desk at the Oak Park Conservatory. Bring your plant questions and issues to our Friends of the Oak Park Conservatory volunteer expert who will help you on the spot. Bring a plant to be repotted too. Email inquiries to oakparkconservatory@pdop.org or call 708-725-2456\, ext. 2. This is a new free service for the community.
URL:https://fopcon.org/event/plant-help-desk-2-2/2027-08-04/
LOCATION:Oak Park Conservatory\, 615 Garfield\, Oak Park\, IL\, 60304\, United States
ATTACH;FMTTYPE=image/jpeg:https://fopcon.org/wp-content/uploads/2024/04/IMG_2836-1-scaled-e1730402501863.jpeg
END:VEVENT
BEGIN:VEVENT
DTSTART;TZID=America/Chicago:20270811T130000
DTEND;TZID=America/Chicago:20270811T150000
DTSTAMP:20260424T170024
CREATED:20251210T160456Z
LAST-MODIFIED:20251210T160456Z
UID:10000702-1817989200-1817996400@fopcon.org
SUMMARY:Plant Help Desk
DESCRIPTION:Every Wednesday from 1-3 pm: Plant Help Desk at the Oak Park Conservatory. Bring your plant questions and issues to our Friends of the Oak Park Conservatory volunteer expert who will help you on the spot. Bring a plant to be repotted too. Email inquiries to oakparkconservatory@pdop.org or call 708-725-2456\, ext. 2. This is a new free service for the community.
URL:https://fopcon.org/event/plant-help-desk-2-2/2027-08-11/
LOCATION:Oak Park Conservatory\, 615 Garfield\, Oak Park\, IL\, 60304\, United States
ATTACH;FMTTYPE=image/jpeg:https://fopcon.org/wp-content/uploads/2024/04/IMG_2836-1-scaled-e1730402501863.jpeg
END:VEVENT
BEGIN:VEVENT
DTSTART;TZID=America/Chicago:20270818T130000
DTEND;TZID=America/Chicago:20270818T150000
DTSTAMP:20260424T170024
CREATED:20251210T160456Z
LAST-MODIFIED:20251210T160456Z
UID:10000703-1818594000-1818601200@fopcon.org
SUMMARY:Plant Help Desk
DESCRIPTION:Every Wednesday from 1-3 pm: Plant Help Desk at the Oak Park Conservatory. Bring your plant questions and issues to our Friends of the Oak Park Conservatory volunteer expert who will help you on the spot. Bring a plant to be repotted too. Email inquiries to oakparkconservatory@pdop.org or call 708-725-2456\, ext. 2. This is a new free service for the community.
URL:https://fopcon.org/event/plant-help-desk-2-2/2027-08-18/
LOCATION:Oak Park Conservatory\, 615 Garfield\, Oak Park\, IL\, 60304\, United States
ATTACH;FMTTYPE=image/jpeg:https://fopcon.org/wp-content/uploads/2024/04/IMG_2836-1-scaled-e1730402501863.jpeg
END:VEVENT
BEGIN:VEVENT
DTSTART;TZID=America/Chicago:20270825T130000
DTEND;TZID=America/Chicago:20270825T150000
DTSTAMP:20260424T170024
CREATED:20251210T160456Z
LAST-MODIFIED:20251210T160456Z
UID:10000704-1819198800-1819206000@fopcon.org
SUMMARY:Plant Help Desk
DESCRIPTION:Every Wednesday from 1-3 pm: Plant Help Desk at the Oak Park Conservatory. Bring your plant questions and issues to our Friends of the Oak Park Conservatory volunteer expert who will help you on the spot. Bring a plant to be repotted too. Email inquiries to oakparkconservatory@pdop.org or call 708-725-2456\, ext. 2. This is a new free service for the community.
URL:https://fopcon.org/event/plant-help-desk-2-2/2027-08-25/
LOCATION:Oak Park Conservatory\, 615 Garfield\, Oak Park\, IL\, 60304\, United States
ATTACH;FMTTYPE=image/jpeg:https://fopcon.org/wp-content/uploads/2024/04/IMG_2836-1-scaled-e1730402501863.jpeg
END:VEVENT
BEGIN:VEVENT
DTSTART;TZID=America/Chicago:20270901T130000
DTEND;TZID=America/Chicago:20270901T150000
DTSTAMP:20260424T170024
CREATED:20251210T160456Z
LAST-MODIFIED:20251210T160456Z
UID:10000705-1819803600-1819810800@fopcon.org
SUMMARY:Plant Help Desk
DESCRIPTION:Every Wednesday from 1-3 pm: Plant Help Desk at the Oak Park Conservatory. Bring your plant questions and issues to our Friends of the Oak Park Conservatory volunteer expert who will help you on the spot. Bring a plant to be repotted too. Email inquiries to oakparkconservatory@pdop.org or call 708-725-2456\, ext. 2. This is a new free service for the community.
URL:https://fopcon.org/event/plant-help-desk-2-2/2027-09-01/
LOCATION:Oak Park Conservatory\, 615 Garfield\, Oak Park\, IL\, 60304\, United States
ATTACH;FMTTYPE=image/jpeg:https://fopcon.org/wp-content/uploads/2024/04/IMG_2836-1-scaled-e1730402501863.jpeg
END:VEVENT
BEGIN:VEVENT
DTSTART;TZID=America/Chicago:20270908T130000
DTEND;TZID=America/Chicago:20270908T150000
DTSTAMP:20260424T170024
CREATED:20251210T160456Z
LAST-MODIFIED:20251210T160456Z
UID:10000706-1820408400-1820415600@fopcon.org
SUMMARY:Plant Help Desk
DESCRIPTION:Every Wednesday from 1-3 pm: Plant Help Desk at the Oak Park Conservatory. Bring your plant questions and issues to our Friends of the Oak Park Conservatory volunteer expert who will help you on the spot. Bring a plant to be repotted too. Email inquiries to oakparkconservatory@pdop.org or call 708-725-2456\, ext. 2. This is a new free service for the community.
URL:https://fopcon.org/event/plant-help-desk-2-2/2027-09-08/
LOCATION:Oak Park Conservatory\, 615 Garfield\, Oak Park\, IL\, 60304\, United States
ATTACH;FMTTYPE=image/jpeg:https://fopcon.org/wp-content/uploads/2024/04/IMG_2836-1-scaled-e1730402501863.jpeg
END:VEVENT
BEGIN:VEVENT
DTSTART;TZID=America/Chicago:20270915T130000
DTEND;TZID=America/Chicago:20270915T150000
DTSTAMP:20260424T170024
CREATED:20251210T160456Z
LAST-MODIFIED:20251210T160456Z
UID:10000707-1821013200-1821020400@fopcon.org
SUMMARY:Plant Help Desk
DESCRIPTION:Every Wednesday from 1-3 pm: Plant Help Desk at the Oak Park Conservatory. Bring your plant questions and issues to our Friends of the Oak Park Conservatory volunteer expert who will help you on the spot. Bring a plant to be repotted too. Email inquiries to oakparkconservatory@pdop.org or call 708-725-2456\, ext. 2. This is a new free service for the community.
URL:https://fopcon.org/event/plant-help-desk-2-2/2027-09-15/
LOCATION:Oak Park Conservatory\, 615 Garfield\, Oak Park\, IL\, 60304\, United States
ATTACH;FMTTYPE=image/jpeg:https://fopcon.org/wp-content/uploads/2024/04/IMG_2836-1-scaled-e1730402501863.jpeg
END:VEVENT
BEGIN:VEVENT
DTSTART;TZID=America/Chicago:20270922T130000
DTEND;TZID=America/Chicago:20270922T150000
DTSTAMP:20260424T170024
CREATED:20251210T160456Z
LAST-MODIFIED:20251210T160456Z
UID:10000708-1821618000-1821625200@fopcon.org
SUMMARY:Plant Help Desk
DESCRIPTION:Every Wednesday from 1-3 pm: Plant Help Desk at the Oak Park Conservatory. Bring your plant questions and issues to our Friends of the Oak Park Conservatory volunteer expert who will help you on the spot. Bring a plant to be repotted too. Email inquiries to oakparkconservatory@pdop.org or call 708-725-2456\, ext. 2. This is a new free service for the community.
URL:https://fopcon.org/event/plant-help-desk-2-2/2027-09-22/
LOCATION:Oak Park Conservatory\, 615 Garfield\, Oak Park\, IL\, 60304\, United States
ATTACH;FMTTYPE=image/jpeg:https://fopcon.org/wp-content/uploads/2024/04/IMG_2836-1-scaled-e1730402501863.jpeg
END:VEVENT
BEGIN:VEVENT
DTSTART;TZID=America/Chicago:20270929T130000
DTEND;TZID=America/Chicago:20270929T150000
DTSTAMP:20260424T170024
CREATED:20251210T160456Z
LAST-MODIFIED:20251210T160456Z
UID:10000709-1822222800-1822230000@fopcon.org
SUMMARY:Plant Help Desk
DESCRIPTION:Every Wednesday from 1-3 pm: Plant Help Desk at the Oak Park Conservatory. Bring your plant questions and issues to our Friends of the Oak Park Conservatory volunteer expert who will help you on the spot. Bring a plant to be repotted too. Email inquiries to oakparkconservatory@pdop.org or call 708-725-2456\, ext. 2. This is a new free service for the community.
URL:https://fopcon.org/event/plant-help-desk-2-2/2027-09-29/
LOCATION:Oak Park Conservatory\, 615 Garfield\, Oak Park\, IL\, 60304\, United States
ATTACH;FMTTYPE=image/jpeg:https://fopcon.org/wp-content/uploads/2024/04/IMG_2836-1-scaled-e1730402501863.jpeg
END:VEVENT
BEGIN:VEVENT
DTSTART;TZID=America/Chicago:20271006T130000
DTEND;TZID=America/Chicago:20271006T150000
DTSTAMP:20260424T170024
CREATED:20251210T160456Z
LAST-MODIFIED:20251210T160456Z
UID:10000710-1822827600-1822834800@fopcon.org
SUMMARY:Plant Help Desk
DESCRIPTION:Every Wednesday from 1-3 pm: Plant Help Desk at the Oak Park Conservatory. Bring your plant questions and issues to our Friends of the Oak Park Conservatory volunteer expert who will help you on the spot. Bring a plant to be repotted too. Email inquiries to oakparkconservatory@pdop.org or call 708-725-2456\, ext. 2. This is a new free service for the community.
URL:https://fopcon.org/event/plant-help-desk-2-2/2027-10-06/
LOCATION:Oak Park Conservatory\, 615 Garfield\, Oak Park\, IL\, 60304\, United States
ATTACH;FMTTYPE=image/jpeg:https://fopcon.org/wp-content/uploads/2024/04/IMG_2836-1-scaled-e1730402501863.jpeg
END:VEVENT
BEGIN:VEVENT
DTSTART;TZID=America/Chicago:20271013T130000
DTEND;TZID=America/Chicago:20271013T150000
DTSTAMP:20260424T170024
CREATED:20251210T160456Z
LAST-MODIFIED:20251210T160456Z
UID:10000711-1823432400-1823439600@fopcon.org
SUMMARY:Plant Help Desk
DESCRIPTION:Every Wednesday from 1-3 pm: Plant Help Desk at the Oak Park Conservatory. Bring your plant questions and issues to our Friends of the Oak Park Conservatory volunteer expert who will help you on the spot. Bring a plant to be repotted too. Email inquiries to oakparkconservatory@pdop.org or call 708-725-2456\, ext. 2. This is a new free service for the community.
URL:https://fopcon.org/event/plant-help-desk-2-2/2027-10-13/
LOCATION:Oak Park Conservatory\, 615 Garfield\, Oak Park\, IL\, 60304\, United States
ATTACH;FMTTYPE=image/jpeg:https://fopcon.org/wp-content/uploads/2024/04/IMG_2836-1-scaled-e1730402501863.jpeg
END:VEVENT
BEGIN:VEVENT
DTSTART;TZID=America/Chicago:20271020T130000
DTEND;TZID=America/Chicago:20271020T150000
DTSTAMP:20260424T170024
CREATED:20251210T160456Z
LAST-MODIFIED:20251210T160456Z
UID:10000712-1824037200-1824044400@fopcon.org
SUMMARY:Plant Help Desk
DESCRIPTION:Every Wednesday from 1-3 pm: Plant Help Desk at the Oak Park Conservatory. Bring your plant questions and issues to our Friends of the Oak Park Conservatory volunteer expert who will help you on the spot. Bring a plant to be repotted too. Email inquiries to oakparkconservatory@pdop.org or call 708-725-2456\, ext. 2. This is a new free service for the community.
URL:https://fopcon.org/event/plant-help-desk-2-2/2027-10-20/
LOCATION:Oak Park Conservatory\, 615 Garfield\, Oak Park\, IL\, 60304\, United States
ATTACH;FMTTYPE=image/jpeg:https://fopcon.org/wp-content/uploads/2024/04/IMG_2836-1-scaled-e1730402501863.jpeg
END:VEVENT
BEGIN:VEVENT
DTSTART;TZID=America/Chicago:20271027T130000
DTEND;TZID=America/Chicago:20271027T150000
DTSTAMP:20260424T170024
CREATED:20251210T160456Z
LAST-MODIFIED:20251210T160456Z
UID:10000713-1824642000-1824649200@fopcon.org
SUMMARY:Plant Help Desk
DESCRIPTION:Every Wednesday from 1-3 pm: Plant Help Desk at the Oak Park Conservatory. Bring your plant questions and issues to our Friends of the Oak Park Conservatory volunteer expert who will help you on the spot. Bring a plant to be repotted too. Email inquiries to oakparkconservatory@pdop.org or call 708-725-2456\, ext. 2. This is a new free service for the community.
URL:https://fopcon.org/event/plant-help-desk-2-2/2027-10-27/
LOCATION:Oak Park Conservatory\, 615 Garfield\, Oak Park\, IL\, 60304\, United States
ATTACH;FMTTYPE=image/jpeg:https://fopcon.org/wp-content/uploads/2024/04/IMG_2836-1-scaled-e1730402501863.jpeg
END:VEVENT
BEGIN:VEVENT
DTSTART;TZID=America/Chicago:20271103T130000
DTEND;TZID=America/Chicago:20271103T150000
DTSTAMP:20260424T170024
CREATED:20251210T160456Z
LAST-MODIFIED:20251210T160456Z
UID:10000714-1825246800-1825254000@fopcon.org
SUMMARY:Plant Help Desk
DESCRIPTION:Every Wednesday from 1-3 pm: Plant Help Desk at the Oak Park Conservatory. Bring your plant questions and issues to our Friends of the Oak Park Conservatory volunteer expert who will help you on the spot. Bring a plant to be repotted too. Email inquiries to oakparkconservatory@pdop.org or call 708-725-2456\, ext. 2. This is a new free service for the community.
URL:https://fopcon.org/event/plant-help-desk-2-2/2027-11-03/
LOCATION:Oak Park Conservatory\, 615 Garfield\, Oak Park\, IL\, 60304\, United States
ATTACH;FMTTYPE=image/jpeg:https://fopcon.org/wp-content/uploads/2024/04/IMG_2836-1-scaled-e1730402501863.jpeg
END:VEVENT
BEGIN:VEVENT
DTSTART;TZID=America/Chicago:20271110T130000
DTEND;TZID=America/Chicago:20271110T150000
DTSTAMP:20260424T170024
CREATED:20251210T160456Z
LAST-MODIFIED:20251210T160456Z
UID:10000715-1825851600-1825858800@fopcon.org
SUMMARY:Plant Help Desk
DESCRIPTION:Every Wednesday from 1-3 pm: Plant Help Desk at the Oak Park Conservatory. Bring your plant questions and issues to our Friends of the Oak Park Conservatory volunteer expert who will help you on the spot. Bring a plant to be repotted too. Email inquiries to oakparkconservatory@pdop.org or call 708-725-2456\, ext. 2. This is a new free service for the community.
URL:https://fopcon.org/event/plant-help-desk-2-2/2027-11-10/
LOCATION:Oak Park Conservatory\, 615 Garfield\, Oak Park\, IL\, 60304\, United States
ATTACH;FMTTYPE=image/jpeg:https://fopcon.org/wp-content/uploads/2024/04/IMG_2836-1-scaled-e1730402501863.jpeg
END:VEVENT
BEGIN:VEVENT
DTSTART;TZID=America/Chicago:20271117T130000
DTEND;TZID=America/Chicago:20271117T150000
DTSTAMP:20260424T170024
CREATED:20251210T160456Z
LAST-MODIFIED:20251210T160456Z
UID:10000716-1826456400-1826463600@fopcon.org
SUMMARY:Plant Help Desk
DESCRIPTION:Every Wednesday from 1-3 pm: Plant Help Desk at the Oak Park Conservatory. Bring your plant questions and issues to our Friends of the Oak Park Conservatory volunteer expert who will help you on the spot. Bring a plant to be repotted too. Email inquiries to oakparkconservatory@pdop.org or call 708-725-2456\, ext. 2. This is a new free service for the community.
URL:https://fopcon.org/event/plant-help-desk-2-2/2027-11-17/
LOCATION:Oak Park Conservatory\, 615 Garfield\, Oak Park\, IL\, 60304\, United States
ATTACH;FMTTYPE=image/jpeg:https://fopcon.org/wp-content/uploads/2024/04/IMG_2836-1-scaled-e1730402501863.jpeg
END:VEVENT
BEGIN:VEVENT
DTSTART;TZID=America/Chicago:20271124T130000
DTEND;TZID=America/Chicago:20271124T150000
DTSTAMP:20260424T170024
CREATED:20251210T160456Z
LAST-MODIFIED:20251210T160456Z
UID:10000717-1827061200-1827068400@fopcon.org
SUMMARY:Plant Help Desk
DESCRIPTION:Every Wednesday from 1-3 pm: Plant Help Desk at the Oak Park Conservatory. Bring your plant questions and issues to our Friends of the Oak Park Conservatory volunteer expert who will help you on the spot. Bring a plant to be repotted too. Email inquiries to oakparkconservatory@pdop.org or call 708-725-2456\, ext. 2. This is a new free service for the community.
URL:https://fopcon.org/event/plant-help-desk-2-2/2027-11-24/
LOCATION:Oak Park Conservatory\, 615 Garfield\, Oak Park\, IL\, 60304\, United States
ATTACH;FMTTYPE=image/jpeg:https://fopcon.org/wp-content/uploads/2024/04/IMG_2836-1-scaled-e1730402501863.jpeg
END:VEVENT
BEGIN:VEVENT
DTSTART;TZID=America/Chicago:20271201T130000
DTEND;TZID=America/Chicago:20271201T150000
DTSTAMP:20260424T170024
CREATED:20251210T160456Z
LAST-MODIFIED:20251210T160456Z
UID:10000718-1827666000-1827673200@fopcon.org
SUMMARY:Plant Help Desk
DESCRIPTION:Every Wednesday from 1-3 pm: Plant Help Desk at the Oak Park Conservatory. Bring your plant questions and issues to our Friends of the Oak Park Conservatory volunteer expert who will help you on the spot. Bring a plant to be repotted too. Email inquiries to oakparkconservatory@pdop.org or call 708-725-2456\, ext. 2. This is a new free service for the community.
URL:https://fopcon.org/event/plant-help-desk-2-2/2027-12-01/
LOCATION:Oak Park Conservatory\, 615 Garfield\, Oak Park\, IL\, 60304\, United States
ATTACH;FMTTYPE=image/jpeg:https://fopcon.org/wp-content/uploads/2024/04/IMG_2836-1-scaled-e1730402501863.jpeg
END:VEVENT
BEGIN:VEVENT
DTSTART;TZID=America/Chicago:20271208T130000
DTEND;TZID=America/Chicago:20271208T150000
DTSTAMP:20260424T170024
CREATED:20251210T160456Z
LAST-MODIFIED:20251210T160456Z
UID:10000719-1828270800-1828278000@fopcon.org
SUMMARY:Plant Help Desk
DESCRIPTION:Every Wednesday from 1-3 pm: Plant Help Desk at the Oak Park Conservatory. Bring your plant questions and issues to our Friends of the Oak Park Conservatory volunteer expert who will help you on the spot. Bring a plant to be repotted too. Email inquiries to oakparkconservatory@pdop.org or call 708-725-2456\, ext. 2. This is a new free service for the community.
URL:https://fopcon.org/event/plant-help-desk-2-2/2027-12-08/
LOCATION:Oak Park Conservatory\, 615 Garfield\, Oak Park\, IL\, 60304\, United States
ATTACH;FMTTYPE=image/jpeg:https://fopcon.org/wp-content/uploads/2024/04/IMG_2836-1-scaled-e1730402501863.jpeg
END:VEVENT
BEGIN:VEVENT
DTSTART;TZID=America/Chicago:20271215T130000
DTEND;TZID=America/Chicago:20271215T150000
DTSTAMP:20260424T170024
CREATED:20251210T160456Z
LAST-MODIFIED:20251210T160456Z
UID:10000720-1828875600-1828882800@fopcon.org
SUMMARY:Plant Help Desk
DESCRIPTION:Every Wednesday from 1-3 pm: Plant Help Desk at the Oak Park Conservatory. Bring your plant questions and issues to our Friends of the Oak Park Conservatory volunteer expert who will help you on the spot. Bring a plant to be repotted too. Email inquiries to oakparkconservatory@pdop.org or call 708-725-2456\, ext. 2. This is a new free service for the community.
URL:https://fopcon.org/event/plant-help-desk-2-2/2027-12-15/
LOCATION:Oak Park Conservatory\, 615 Garfield\, Oak Park\, IL\, 60304\, United States
ATTACH;FMTTYPE=image/jpeg:https://fopcon.org/wp-content/uploads/2024/04/IMG_2836-1-scaled-e1730402501863.jpeg
END:VEVENT
BEGIN:VEVENT
DTSTART;TZID=America/Chicago:20271222T130000
DTEND;TZID=America/Chicago:20271222T150000
DTSTAMP:20260424T170024
CREATED:20251210T160456Z
LAST-MODIFIED:20251210T160456Z
UID:10000721-1829480400-1829487600@fopcon.org
SUMMARY:Plant Help Desk
DESCRIPTION:Every Wednesday from 1-3 pm: Plant Help Desk at the Oak Park Conservatory. Bring your plant questions and issues to our Friends of the Oak Park Conservatory volunteer expert who will help you on the spot. Bring a plant to be repotted too. Email inquiries to oakparkconservatory@pdop.org or call 708-725-2456\, ext. 2. This is a new free service for the community.
URL:https://fopcon.org/event/plant-help-desk-2-2/2027-12-22/
LOCATION:Oak Park Conservatory\, 615 Garfield\, Oak Park\, IL\, 60304\, United States
ATTACH;FMTTYPE=image/jpeg:https://fopcon.org/wp-content/uploads/2024/04/IMG_2836-1-scaled-e1730402501863.jpeg
END:VEVENT
BEGIN:VEVENT
DTSTART;TZID=America/Chicago:20271229T130000
DTEND;TZID=America/Chicago:20271229T150000
DTSTAMP:20260424T170024
CREATED:20251210T160456Z
LAST-MODIFIED:20251210T160456Z
UID:10000722-1830085200-1830092400@fopcon.org
SUMMARY:Plant Help Desk
DESCRIPTION:Every Wednesday from 1-3 pm: Plant Help Desk at the Oak Park Conservatory. Bring your plant questions and issues to our Friends of the Oak Park Conservatory volunteer expert who will help you on the spot. Bring a plant to be repotted too. Email inquiries to oakparkconservatory@pdop.org or call 708-725-2456\, ext. 2. This is a new free service for the community.
URL:https://fopcon.org/event/plant-help-desk-2-2/2027-12-29/
LOCATION:Oak Park Conservatory\, 615 Garfield\, Oak Park\, IL\, 60304\, United States
ATTACH;FMTTYPE=image/jpeg:https://fopcon.org/wp-content/uploads/2024/04/IMG_2836-1-scaled-e1730402501863.jpeg
END:VEVENT
BEGIN:VEVENT
DTSTART;TZID=America/Chicago:20280105T130000
DTEND;TZID=America/Chicago:20280105T150000
DTSTAMP:20260424T170024
CREATED:20251210T160456Z
LAST-MODIFIED:20251210T160456Z
UID:10000723-1830690000-1830697200@fopcon.org
SUMMARY:Plant Help Desk
DESCRIPTION:Every Wednesday from 1-3 pm: Plant Help Desk at the Oak Park Conservatory. Bring your plant questions and issues to our Friends of the Oak Park Conservatory volunteer expert who will help you on the spot. Bring a plant to be repotted too. Email inquiries to oakparkconservatory@pdop.org or call 708-725-2456\, ext. 2. This is a new free service for the community.
URL:https://fopcon.org/event/plant-help-desk-2-2/2028-01-05/
LOCATION:Oak Park Conservatory\, 615 Garfield\, Oak Park\, IL\, 60304\, United States
ATTACH;FMTTYPE=image/jpeg:https://fopcon.org/wp-content/uploads/2024/04/IMG_2836-1-scaled-e1730402501863.jpeg
END:VEVENT
BEGIN:VEVENT
DTSTART;TZID=America/Chicago:20280112T130000
DTEND;TZID=America/Chicago:20280112T150000
DTSTAMP:20260424T170024
CREATED:20251210T160456Z
LAST-MODIFIED:20251210T160456Z
UID:10000724-1831294800-1831302000@fopcon.org
SUMMARY:Plant Help Desk
DESCRIPTION:Every Wednesday from 1-3 pm: Plant Help Desk at the Oak Park Conservatory. Bring your plant questions and issues to our Friends of the Oak Park Conservatory volunteer expert who will help you on the spot. Bring a plant to be repotted too. Email inquiries to oakparkconservatory@pdop.org or call 708-725-2456\, ext. 2. This is a new free service for the community.
URL:https://fopcon.org/event/plant-help-desk-2-2/2028-01-12/
LOCATION:Oak Park Conservatory\, 615 Garfield\, Oak Park\, IL\, 60304\, United States
ATTACH;FMTTYPE=image/jpeg:https://fopcon.org/wp-content/uploads/2024/04/IMG_2836-1-scaled-e1730402501863.jpeg
END:VEVENT
BEGIN:VEVENT
DTSTART;TZID=America/Chicago:20280119T130000
DTEND;TZID=America/Chicago:20280119T150000
DTSTAMP:20260424T170024
CREATED:20251210T160456Z
LAST-MODIFIED:20251210T160456Z
UID:10000725-1831899600-1831906800@fopcon.org
SUMMARY:Plant Help Desk
DESCRIPTION:Every Wednesday from 1-3 pm: Plant Help Desk at the Oak Park Conservatory. Bring your plant questions and issues to our Friends of the Oak Park Conservatory volunteer expert who will help you on the spot. Bring a plant to be repotted too. Email inquiries to oakparkconservatory@pdop.org or call 708-725-2456\, ext. 2. This is a new free service for the community.
URL:https://fopcon.org/event/plant-help-desk-2-2/2028-01-19/
LOCATION:Oak Park Conservatory\, 615 Garfield\, Oak Park\, IL\, 60304\, United States
ATTACH;FMTTYPE=image/jpeg:https://fopcon.org/wp-content/uploads/2024/04/IMG_2836-1-scaled-e1730402501863.jpeg
END:VEVENT
BEGIN:VEVENT
DTSTART;TZID=America/Chicago:20280126T130000
DTEND;TZID=America/Chicago:20280126T150000
DTSTAMP:20260424T170024
CREATED:20251210T160456Z
LAST-MODIFIED:20251210T160456Z
UID:10000726-1832504400-1832511600@fopcon.org
SUMMARY:Plant Help Desk
DESCRIPTION:Every Wednesday from 1-3 pm: Plant Help Desk at the Oak Park Conservatory. Bring your plant questions and issues to our Friends of the Oak Park Conservatory volunteer expert who will help you on the spot. Bring a plant to be repotted too. Email inquiries to oakparkconservatory@pdop.org or call 708-725-2456\, ext. 2. This is a new free service for the community.
URL:https://fopcon.org/event/plant-help-desk-2-2/2028-01-26/
LOCATION:Oak Park Conservatory\, 615 Garfield\, Oak Park\, IL\, 60304\, United States
ATTACH;FMTTYPE=image/jpeg:https://fopcon.org/wp-content/uploads/2024/04/IMG_2836-1-scaled-e1730402501863.jpeg
END:VEVENT
BEGIN:VEVENT
DTSTART;TZID=America/Chicago:20280202T130000
DTEND;TZID=America/Chicago:20280202T150000
DTSTAMP:20260424T170024
CREATED:20251210T160456Z
LAST-MODIFIED:20251210T160456Z
UID:10000727-1833109200-1833116400@fopcon.org
SUMMARY:Plant Help Desk
DESCRIPTION:Every Wednesday from 1-3 pm: Plant Help Desk at the Oak Park Conservatory. Bring your plant questions and issues to our Friends of the Oak Park Conservatory volunteer expert who will help you on the spot. Bring a plant to be repotted too. Email inquiries to oakparkconservatory@pdop.org or call 708-725-2456\, ext. 2. This is a new free service for the community.
URL:https://fopcon.org/event/plant-help-desk-2-2/2028-02-02/
LOCATION:Oak Park Conservatory\, 615 Garfield\, Oak Park\, IL\, 60304\, United States
ATTACH;FMTTYPE=image/jpeg:https://fopcon.org/wp-content/uploads/2024/04/IMG_2836-1-scaled-e1730402501863.jpeg
END:VEVENT
BEGIN:VEVENT
DTSTART;TZID=America/Chicago:20280209T130000
DTEND;TZID=America/Chicago:20280209T150000
DTSTAMP:20260424T170024
CREATED:20251210T160456Z
LAST-MODIFIED:20251210T160456Z
UID:10000728-1833714000-1833721200@fopcon.org
SUMMARY:Plant Help Desk
DESCRIPTION:Every Wednesday from 1-3 pm: Plant Help Desk at the Oak Park Conservatory. Bring your plant questions and issues to our Friends of the Oak Park Conservatory volunteer expert who will help you on the spot. Bring a plant to be repotted too. Email inquiries to oakparkconservatory@pdop.org or call 708-725-2456\, ext. 2. This is a new free service for the community.
URL:https://fopcon.org/event/plant-help-desk-2-2/2028-02-09/
LOCATION:Oak Park Conservatory\, 615 Garfield\, Oak Park\, IL\, 60304\, United States
ATTACH;FMTTYPE=image/jpeg:https://fopcon.org/wp-content/uploads/2024/04/IMG_2836-1-scaled-e1730402501863.jpeg
END:VEVENT
BEGIN:VEVENT
DTSTART;TZID=America/Chicago:20280216T130000
DTEND;TZID=America/Chicago:20280216T150000
DTSTAMP:20260424T170024
CREATED:20251210T160456Z
LAST-MODIFIED:20251210T160456Z
UID:10000729-1834318800-1834326000@fopcon.org
SUMMARY:Plant Help Desk
DESCRIPTION:Every Wednesday from 1-3 pm: Plant Help Desk at the Oak Park Conservatory. Bring your plant questions and issues to our Friends of the Oak Park Conservatory volunteer expert who will help you on the spot. Bring a plant to be repotted too. Email inquiries to oakparkconservatory@pdop.org or call 708-725-2456\, ext. 2. This is a new free service for the community.
URL:https://fopcon.org/event/plant-help-desk-2-2/2028-02-16/
LOCATION:Oak Park Conservatory\, 615 Garfield\, Oak Park\, IL\, 60304\, United States
ATTACH;FMTTYPE=image/jpeg:https://fopcon.org/wp-content/uploads/2024/04/IMG_2836-1-scaled-e1730402501863.jpeg
END:VEVENT
END:VCALENDAR