BEGIN:VCALENDAR
VERSION:2.0
PRODID:-//Friends of the Oak Park Conservatory - ECPv6.15.20//NONSGML v1.0//EN
CALSCALE:GREGORIAN
METHOD:PUBLISH
X-ORIGINAL-URL:https://fopcon.org
X-WR-CALDESC:Events for Friends of the Oak Park Conservatory
REFRESH-INTERVAL;VALUE=DURATION:PT1H
X-Robots-Tag:noindex
X-PUBLISHED-TTL:PT1H
BEGIN:VTIMEZONE
TZID:America/Chicago
BEGIN:DAYLIGHT
TZOFFSETFROM:-0600
TZOFFSETTO:-0500
TZNAME:CDT
DTSTART:20250309T080000
END:DAYLIGHT
BEGIN:STANDARD
TZOFFSETFROM:-0500
TZOFFSETTO:-0600
TZNAME:CST
DTSTART:20251102T070000
END:STANDARD
BEGIN:DAYLIGHT
TZOFFSETFROM:-0600
TZOFFSETTO:-0500
TZNAME:CDT
DTSTART:20260308T080000
END:DAYLIGHT
BEGIN:STANDARD
TZOFFSETFROM:-0500
TZOFFSETTO:-0600
TZNAME:CST
DTSTART:20261101T070000
END:STANDARD
BEGIN:DAYLIGHT
TZOFFSETFROM:-0600
TZOFFSETTO:-0500
TZNAME:CDT
DTSTART:20270314T080000
END:DAYLIGHT
BEGIN:STANDARD
TZOFFSETFROM:-0500
TZOFFSETTO:-0600
TZNAME:CST
DTSTART:20271107T070000
END:STANDARD
END:VTIMEZONE
BEGIN:VEVENT
DTSTART;TZID=America/Chicago:20260628T100000
DTEND;TZID=America/Chicago:20260628T160000
DTSTAMP:20260419T145945
CREATED:20260121T192839Z
LAST-MODIFIED:20260121T192914Z
UID:10001610-1782640800-1782662400@fopcon.org
SUMMARY:32nd Annual Garden Walk
DESCRIPTION:Mark your calendars for the 32nd annual Garden Walk in Oak Park and River Forest. Enjoy a self-guided tour featuring unique private and public gardens. Tickets go on sale May 1 at fopcon.org or gcoprf.org. Members of FOPCON and GCOPRF are eligible for discounted tickets. Transportation is not provided. Children 12 and under are free.  \nMore details coming soon. \nPresented by the Friends of the Oak Park Conservatory (FOPCON) and the Garden Club of Oak Park and River Forest (GCOPRF). Proceeds from the Walk benefit the missions of both organizations.
URL:https://fopcon.org/event/32-annual-garden-walk/
CATEGORIES:Annual Events,General,Upcoming Events
ATTACH;FMTTYPE=image/jpeg:https://fopcon.org/wp-content/uploads/2019/05/GardenWalk2019-2-e1745604924183.jpg
END:VEVENT
END:VCALENDAR