BEGIN:VCALENDAR
VERSION:2.0
PRODID:-//Friends of the Oak Park Conservatory - ECPv6.15.20//NONSGML v1.0//EN
CALSCALE:GREGORIAN
METHOD:PUBLISH
X-ORIGINAL-URL:https://fopcon.org
X-WR-CALDESC:Events for Friends of the Oak Park Conservatory
REFRESH-INTERVAL;VALUE=DURATION:PT1H
X-Robots-Tag:noindex
X-PUBLISHED-TTL:PT1H
BEGIN:VTIMEZONE
TZID:America/Chicago
BEGIN:DAYLIGHT
TZOFFSETFROM:-0600
TZOFFSETTO:-0500
TZNAME:CDT
DTSTART:20270314T080000
END:DAYLIGHT
BEGIN:STANDARD
TZOFFSETFROM:-0500
TZOFFSETTO:-0600
TZNAME:CST
DTSTART:20271107T070000
END:STANDARD
BEGIN:DAYLIGHT
TZOFFSETFROM:-0600
TZOFFSETTO:-0500
TZNAME:CDT
DTSTART:20280312T080000
END:DAYLIGHT
BEGIN:STANDARD
TZOFFSETFROM:-0500
TZOFFSETTO:-0600
TZNAME:CST
DTSTART:20281105T070000
END:STANDARD
BEGIN:DAYLIGHT
TZOFFSETFROM:-0600
TZOFFSETTO:-0500
TZNAME:CDT
DTSTART:20290311T080000
END:DAYLIGHT
BEGIN:STANDARD
TZOFFSETFROM:-0500
TZOFFSETTO:-0600
TZNAME:CST
DTSTART:20291104T070000
END:STANDARD
END:VTIMEZONE
BEGIN:VEVENT
DTSTART;TZID=America/Chicago:20280412T130000
DTEND;TZID=America/Chicago:20280412T150000
DTSTAMP:20260424T221227
CREATED:20251210T160456Z
LAST-MODIFIED:20251210T160456Z
UID:10000737-1839157200-1839164400@fopcon.org
SUMMARY:Plant Help Desk
DESCRIPTION:Every Wednesday from 1-3 pm: Plant Help Desk at the Oak Park Conservatory. Bring your plant questions and issues to our Friends of the Oak Park Conservatory volunteer expert who will help you on the spot. Bring a plant to be repotted too. Email inquiries to oakparkconservatory@pdop.org or call 708-725-2456\, ext. 2. This is a new free service for the community.
URL:https://fopcon.org/event/plant-help-desk-2-2/2028-04-12/
LOCATION:Oak Park Conservatory\, 615 Garfield\, Oak Park\, IL\, 60304\, United States
ATTACH;FMTTYPE=image/jpeg:https://fopcon.org/wp-content/uploads/2024/04/IMG_2836-1-scaled-e1730402501863.jpeg
END:VEVENT
BEGIN:VEVENT
DTSTART;TZID=America/Chicago:20280419T130000
DTEND;TZID=America/Chicago:20280419T150000
DTSTAMP:20260424T221227
CREATED:20251210T160456Z
LAST-MODIFIED:20251210T160456Z
UID:10000738-1839762000-1839769200@fopcon.org
SUMMARY:Plant Help Desk
DESCRIPTION:Every Wednesday from 1-3 pm: Plant Help Desk at the Oak Park Conservatory. Bring your plant questions and issues to our Friends of the Oak Park Conservatory volunteer expert who will help you on the spot. Bring a plant to be repotted too. Email inquiries to oakparkconservatory@pdop.org or call 708-725-2456\, ext. 2. This is a new free service for the community.
URL:https://fopcon.org/event/plant-help-desk-2-2/2028-04-19/
LOCATION:Oak Park Conservatory\, 615 Garfield\, Oak Park\, IL\, 60304\, United States
ATTACH;FMTTYPE=image/jpeg:https://fopcon.org/wp-content/uploads/2024/04/IMG_2836-1-scaled-e1730402501863.jpeg
END:VEVENT
BEGIN:VEVENT
DTSTART;TZID=America/Chicago:20280426T130000
DTEND;TZID=America/Chicago:20280426T150000
DTSTAMP:20260424T221227
CREATED:20251210T160456Z
LAST-MODIFIED:20251210T160456Z
UID:10000739-1840366800-1840374000@fopcon.org
SUMMARY:Plant Help Desk
DESCRIPTION:Every Wednesday from 1-3 pm: Plant Help Desk at the Oak Park Conservatory. Bring your plant questions and issues to our Friends of the Oak Park Conservatory volunteer expert who will help you on the spot. Bring a plant to be repotted too. Email inquiries to oakparkconservatory@pdop.org or call 708-725-2456\, ext. 2. This is a new free service for the community.
URL:https://fopcon.org/event/plant-help-desk-2-2/2028-04-26/
LOCATION:Oak Park Conservatory\, 615 Garfield\, Oak Park\, IL\, 60304\, United States
ATTACH;FMTTYPE=image/jpeg:https://fopcon.org/wp-content/uploads/2024/04/IMG_2836-1-scaled-e1730402501863.jpeg
END:VEVENT
BEGIN:VEVENT
DTSTART;TZID=America/Chicago:20280503T130000
DTEND;TZID=America/Chicago:20280503T150000
DTSTAMP:20260424T221227
CREATED:20251210T160456Z
LAST-MODIFIED:20251210T160456Z
UID:10000740-1840971600-1840978800@fopcon.org
SUMMARY:Plant Help Desk
DESCRIPTION:Every Wednesday from 1-3 pm: Plant Help Desk at the Oak Park Conservatory. Bring your plant questions and issues to our Friends of the Oak Park Conservatory volunteer expert who will help you on the spot. Bring a plant to be repotted too. Email inquiries to oakparkconservatory@pdop.org or call 708-725-2456\, ext. 2. This is a new free service for the community.
URL:https://fopcon.org/event/plant-help-desk-2-2/2028-05-03/
LOCATION:Oak Park Conservatory\, 615 Garfield\, Oak Park\, IL\, 60304\, United States
ATTACH;FMTTYPE=image/jpeg:https://fopcon.org/wp-content/uploads/2024/04/IMG_2836-1-scaled-e1730402501863.jpeg
END:VEVENT
BEGIN:VEVENT
DTSTART;TZID=America/Chicago:20280510T130000
DTEND;TZID=America/Chicago:20280510T150000
DTSTAMP:20260424T221227
CREATED:20251210T160456Z
LAST-MODIFIED:20251210T160456Z
UID:10000741-1841576400-1841583600@fopcon.org
SUMMARY:Plant Help Desk
DESCRIPTION:Every Wednesday from 1-3 pm: Plant Help Desk at the Oak Park Conservatory. Bring your plant questions and issues to our Friends of the Oak Park Conservatory volunteer expert who will help you on the spot. Bring a plant to be repotted too. Email inquiries to oakparkconservatory@pdop.org or call 708-725-2456\, ext. 2. This is a new free service for the community.
URL:https://fopcon.org/event/plant-help-desk-2-2/2028-05-10/
LOCATION:Oak Park Conservatory\, 615 Garfield\, Oak Park\, IL\, 60304\, United States
ATTACH;FMTTYPE=image/jpeg:https://fopcon.org/wp-content/uploads/2024/04/IMG_2836-1-scaled-e1730402501863.jpeg
END:VEVENT
BEGIN:VEVENT
DTSTART;TZID=America/Chicago:20280517T130000
DTEND;TZID=America/Chicago:20280517T150000
DTSTAMP:20260424T221227
CREATED:20251210T160456Z
LAST-MODIFIED:20251210T160456Z
UID:10000742-1842181200-1842188400@fopcon.org
SUMMARY:Plant Help Desk
DESCRIPTION:Every Wednesday from 1-3 pm: Plant Help Desk at the Oak Park Conservatory. Bring your plant questions and issues to our Friends of the Oak Park Conservatory volunteer expert who will help you on the spot. Bring a plant to be repotted too. Email inquiries to oakparkconservatory@pdop.org or call 708-725-2456\, ext. 2. This is a new free service for the community.
URL:https://fopcon.org/event/plant-help-desk-2-2/2028-05-17/
LOCATION:Oak Park Conservatory\, 615 Garfield\, Oak Park\, IL\, 60304\, United States
ATTACH;FMTTYPE=image/jpeg:https://fopcon.org/wp-content/uploads/2024/04/IMG_2836-1-scaled-e1730402501863.jpeg
END:VEVENT
BEGIN:VEVENT
DTSTART;TZID=America/Chicago:20280524T130000
DTEND;TZID=America/Chicago:20280524T150000
DTSTAMP:20260424T221227
CREATED:20251210T160456Z
LAST-MODIFIED:20251210T160456Z
UID:10000743-1842786000-1842793200@fopcon.org
SUMMARY:Plant Help Desk
DESCRIPTION:Every Wednesday from 1-3 pm: Plant Help Desk at the Oak Park Conservatory. Bring your plant questions and issues to our Friends of the Oak Park Conservatory volunteer expert who will help you on the spot. Bring a plant to be repotted too. Email inquiries to oakparkconservatory@pdop.org or call 708-725-2456\, ext. 2. This is a new free service for the community.
URL:https://fopcon.org/event/plant-help-desk-2-2/2028-05-24/
LOCATION:Oak Park Conservatory\, 615 Garfield\, Oak Park\, IL\, 60304\, United States
ATTACH;FMTTYPE=image/jpeg:https://fopcon.org/wp-content/uploads/2024/04/IMG_2836-1-scaled-e1730402501863.jpeg
END:VEVENT
BEGIN:VEVENT
DTSTART;TZID=America/Chicago:20280531T130000
DTEND;TZID=America/Chicago:20280531T150000
DTSTAMP:20260424T221227
CREATED:20251210T160456Z
LAST-MODIFIED:20251210T160456Z
UID:10000744-1843390800-1843398000@fopcon.org
SUMMARY:Plant Help Desk
DESCRIPTION:Every Wednesday from 1-3 pm: Plant Help Desk at the Oak Park Conservatory. Bring your plant questions and issues to our Friends of the Oak Park Conservatory volunteer expert who will help you on the spot. Bring a plant to be repotted too. Email inquiries to oakparkconservatory@pdop.org or call 708-725-2456\, ext. 2. This is a new free service for the community.
URL:https://fopcon.org/event/plant-help-desk-2-2/2028-05-31/
LOCATION:Oak Park Conservatory\, 615 Garfield\, Oak Park\, IL\, 60304\, United States
ATTACH;FMTTYPE=image/jpeg:https://fopcon.org/wp-content/uploads/2024/04/IMG_2836-1-scaled-e1730402501863.jpeg
END:VEVENT
BEGIN:VEVENT
DTSTART;TZID=America/Chicago:20280607T130000
DTEND;TZID=America/Chicago:20280607T150000
DTSTAMP:20260424T221227
CREATED:20251210T160456Z
LAST-MODIFIED:20251210T160456Z
UID:10000745-1843995600-1844002800@fopcon.org
SUMMARY:Plant Help Desk
DESCRIPTION:Every Wednesday from 1-3 pm: Plant Help Desk at the Oak Park Conservatory. Bring your plant questions and issues to our Friends of the Oak Park Conservatory volunteer expert who will help you on the spot. Bring a plant to be repotted too. Email inquiries to oakparkconservatory@pdop.org or call 708-725-2456\, ext. 2. This is a new free service for the community.
URL:https://fopcon.org/event/plant-help-desk-2-2/2028-06-07/
LOCATION:Oak Park Conservatory\, 615 Garfield\, Oak Park\, IL\, 60304\, United States
ATTACH;FMTTYPE=image/jpeg:https://fopcon.org/wp-content/uploads/2024/04/IMG_2836-1-scaled-e1730402501863.jpeg
END:VEVENT
BEGIN:VEVENT
DTSTART;TZID=America/Chicago:20280614T130000
DTEND;TZID=America/Chicago:20280614T150000
DTSTAMP:20260424T221227
CREATED:20251210T160456Z
LAST-MODIFIED:20251210T160456Z
UID:10000746-1844600400-1844607600@fopcon.org
SUMMARY:Plant Help Desk
DESCRIPTION:Every Wednesday from 1-3 pm: Plant Help Desk at the Oak Park Conservatory. Bring your plant questions and issues to our Friends of the Oak Park Conservatory volunteer expert who will help you on the spot. Bring a plant to be repotted too. Email inquiries to oakparkconservatory@pdop.org or call 708-725-2456\, ext. 2. This is a new free service for the community.
URL:https://fopcon.org/event/plant-help-desk-2-2/2028-06-14/
LOCATION:Oak Park Conservatory\, 615 Garfield\, Oak Park\, IL\, 60304\, United States
ATTACH;FMTTYPE=image/jpeg:https://fopcon.org/wp-content/uploads/2024/04/IMG_2836-1-scaled-e1730402501863.jpeg
END:VEVENT
BEGIN:VEVENT
DTSTART;TZID=America/Chicago:20280621T130000
DTEND;TZID=America/Chicago:20280621T150000
DTSTAMP:20260424T221227
CREATED:20251210T160456Z
LAST-MODIFIED:20251210T160456Z
UID:10000747-1845205200-1845212400@fopcon.org
SUMMARY:Plant Help Desk
DESCRIPTION:Every Wednesday from 1-3 pm: Plant Help Desk at the Oak Park Conservatory. Bring your plant questions and issues to our Friends of the Oak Park Conservatory volunteer expert who will help you on the spot. Bring a plant to be repotted too. Email inquiries to oakparkconservatory@pdop.org or call 708-725-2456\, ext. 2. This is a new free service for the community.
URL:https://fopcon.org/event/plant-help-desk-2-2/2028-06-21/
LOCATION:Oak Park Conservatory\, 615 Garfield\, Oak Park\, IL\, 60304\, United States
ATTACH;FMTTYPE=image/jpeg:https://fopcon.org/wp-content/uploads/2024/04/IMG_2836-1-scaled-e1730402501863.jpeg
END:VEVENT
BEGIN:VEVENT
DTSTART;TZID=America/Chicago:20280628T130000
DTEND;TZID=America/Chicago:20280628T150000
DTSTAMP:20260424T221227
CREATED:20251210T160456Z
LAST-MODIFIED:20251210T160456Z
UID:10000748-1845810000-1845817200@fopcon.org
SUMMARY:Plant Help Desk
DESCRIPTION:Every Wednesday from 1-3 pm: Plant Help Desk at the Oak Park Conservatory. Bring your plant questions and issues to our Friends of the Oak Park Conservatory volunteer expert who will help you on the spot. Bring a plant to be repotted too. Email inquiries to oakparkconservatory@pdop.org or call 708-725-2456\, ext. 2. This is a new free service for the community.
URL:https://fopcon.org/event/plant-help-desk-2-2/2028-06-28/
LOCATION:Oak Park Conservatory\, 615 Garfield\, Oak Park\, IL\, 60304\, United States
ATTACH;FMTTYPE=image/jpeg:https://fopcon.org/wp-content/uploads/2024/04/IMG_2836-1-scaled-e1730402501863.jpeg
END:VEVENT
BEGIN:VEVENT
DTSTART;TZID=America/Chicago:20280705T130000
DTEND;TZID=America/Chicago:20280705T150000
DTSTAMP:20260424T221227
CREATED:20251210T160456Z
LAST-MODIFIED:20251210T160456Z
UID:10000749-1846414800-1846422000@fopcon.org
SUMMARY:Plant Help Desk
DESCRIPTION:Every Wednesday from 1-3 pm: Plant Help Desk at the Oak Park Conservatory. Bring your plant questions and issues to our Friends of the Oak Park Conservatory volunteer expert who will help you on the spot. Bring a plant to be repotted too. Email inquiries to oakparkconservatory@pdop.org or call 708-725-2456\, ext. 2. This is a new free service for the community.
URL:https://fopcon.org/event/plant-help-desk-2-2/2028-07-05/
LOCATION:Oak Park Conservatory\, 615 Garfield\, Oak Park\, IL\, 60304\, United States
ATTACH;FMTTYPE=image/jpeg:https://fopcon.org/wp-content/uploads/2024/04/IMG_2836-1-scaled-e1730402501863.jpeg
END:VEVENT
BEGIN:VEVENT
DTSTART;TZID=America/Chicago:20280712T130000
DTEND;TZID=America/Chicago:20280712T150000
DTSTAMP:20260424T221227
CREATED:20251210T160456Z
LAST-MODIFIED:20251210T160456Z
UID:10000750-1847019600-1847026800@fopcon.org
SUMMARY:Plant Help Desk
DESCRIPTION:Every Wednesday from 1-3 pm: Plant Help Desk at the Oak Park Conservatory. Bring your plant questions and issues to our Friends of the Oak Park Conservatory volunteer expert who will help you on the spot. Bring a plant to be repotted too. Email inquiries to oakparkconservatory@pdop.org or call 708-725-2456\, ext. 2. This is a new free service for the community.
URL:https://fopcon.org/event/plant-help-desk-2-2/2028-07-12/
LOCATION:Oak Park Conservatory\, 615 Garfield\, Oak Park\, IL\, 60304\, United States
ATTACH;FMTTYPE=image/jpeg:https://fopcon.org/wp-content/uploads/2024/04/IMG_2836-1-scaled-e1730402501863.jpeg
END:VEVENT
BEGIN:VEVENT
DTSTART;TZID=America/Chicago:20280719T130000
DTEND;TZID=America/Chicago:20280719T150000
DTSTAMP:20260424T221227
CREATED:20251210T160456Z
LAST-MODIFIED:20251210T160456Z
UID:10000751-1847624400-1847631600@fopcon.org
SUMMARY:Plant Help Desk
DESCRIPTION:Every Wednesday from 1-3 pm: Plant Help Desk at the Oak Park Conservatory. Bring your plant questions and issues to our Friends of the Oak Park Conservatory volunteer expert who will help you on the spot. Bring a plant to be repotted too. Email inquiries to oakparkconservatory@pdop.org or call 708-725-2456\, ext. 2. This is a new free service for the community.
URL:https://fopcon.org/event/plant-help-desk-2-2/2028-07-19/
LOCATION:Oak Park Conservatory\, 615 Garfield\, Oak Park\, IL\, 60304\, United States
ATTACH;FMTTYPE=image/jpeg:https://fopcon.org/wp-content/uploads/2024/04/IMG_2836-1-scaled-e1730402501863.jpeg
END:VEVENT
BEGIN:VEVENT
DTSTART;TZID=America/Chicago:20280726T130000
DTEND;TZID=America/Chicago:20280726T150000
DTSTAMP:20260424T221227
CREATED:20251210T160456Z
LAST-MODIFIED:20251210T160456Z
UID:10000752-1848229200-1848236400@fopcon.org
SUMMARY:Plant Help Desk
DESCRIPTION:Every Wednesday from 1-3 pm: Plant Help Desk at the Oak Park Conservatory. Bring your plant questions and issues to our Friends of the Oak Park Conservatory volunteer expert who will help you on the spot. Bring a plant to be repotted too. Email inquiries to oakparkconservatory@pdop.org or call 708-725-2456\, ext. 2. This is a new free service for the community.
URL:https://fopcon.org/event/plant-help-desk-2-2/2028-07-26/
LOCATION:Oak Park Conservatory\, 615 Garfield\, Oak Park\, IL\, 60304\, United States
ATTACH;FMTTYPE=image/jpeg:https://fopcon.org/wp-content/uploads/2024/04/IMG_2836-1-scaled-e1730402501863.jpeg
END:VEVENT
BEGIN:VEVENT
DTSTART;TZID=America/Chicago:20280802T130000
DTEND;TZID=America/Chicago:20280802T150000
DTSTAMP:20260424T221227
CREATED:20251210T160456Z
LAST-MODIFIED:20251210T160456Z
UID:10000753-1848834000-1848841200@fopcon.org
SUMMARY:Plant Help Desk
DESCRIPTION:Every Wednesday from 1-3 pm: Plant Help Desk at the Oak Park Conservatory. Bring your plant questions and issues to our Friends of the Oak Park Conservatory volunteer expert who will help you on the spot. Bring a plant to be repotted too. Email inquiries to oakparkconservatory@pdop.org or call 708-725-2456\, ext. 2. This is a new free service for the community.
URL:https://fopcon.org/event/plant-help-desk-2-2/2028-08-02/
LOCATION:Oak Park Conservatory\, 615 Garfield\, Oak Park\, IL\, 60304\, United States
ATTACH;FMTTYPE=image/jpeg:https://fopcon.org/wp-content/uploads/2024/04/IMG_2836-1-scaled-e1730402501863.jpeg
END:VEVENT
BEGIN:VEVENT
DTSTART;TZID=America/Chicago:20280809T130000
DTEND;TZID=America/Chicago:20280809T150000
DTSTAMP:20260424T221227
CREATED:20251210T160456Z
LAST-MODIFIED:20251210T160456Z
UID:10000754-1849438800-1849446000@fopcon.org
SUMMARY:Plant Help Desk
DESCRIPTION:Every Wednesday from 1-3 pm: Plant Help Desk at the Oak Park Conservatory. Bring your plant questions and issues to our Friends of the Oak Park Conservatory volunteer expert who will help you on the spot. Bring a plant to be repotted too. Email inquiries to oakparkconservatory@pdop.org or call 708-725-2456\, ext. 2. This is a new free service for the community.
URL:https://fopcon.org/event/plant-help-desk-2-2/2028-08-09/
LOCATION:Oak Park Conservatory\, 615 Garfield\, Oak Park\, IL\, 60304\, United States
ATTACH;FMTTYPE=image/jpeg:https://fopcon.org/wp-content/uploads/2024/04/IMG_2836-1-scaled-e1730402501863.jpeg
END:VEVENT
BEGIN:VEVENT
DTSTART;TZID=America/Chicago:20280816T130000
DTEND;TZID=America/Chicago:20280816T150000
DTSTAMP:20260424T221227
CREATED:20251210T160456Z
LAST-MODIFIED:20251210T160456Z
UID:10000755-1850043600-1850050800@fopcon.org
SUMMARY:Plant Help Desk
DESCRIPTION:Every Wednesday from 1-3 pm: Plant Help Desk at the Oak Park Conservatory. Bring your plant questions and issues to our Friends of the Oak Park Conservatory volunteer expert who will help you on the spot. Bring a plant to be repotted too. Email inquiries to oakparkconservatory@pdop.org or call 708-725-2456\, ext. 2. This is a new free service for the community.
URL:https://fopcon.org/event/plant-help-desk-2-2/2028-08-16/
LOCATION:Oak Park Conservatory\, 615 Garfield\, Oak Park\, IL\, 60304\, United States
ATTACH;FMTTYPE=image/jpeg:https://fopcon.org/wp-content/uploads/2024/04/IMG_2836-1-scaled-e1730402501863.jpeg
END:VEVENT
BEGIN:VEVENT
DTSTART;TZID=America/Chicago:20280823T130000
DTEND;TZID=America/Chicago:20280823T150000
DTSTAMP:20260424T221227
CREATED:20251210T160456Z
LAST-MODIFIED:20251210T160456Z
UID:10000756-1850648400-1850655600@fopcon.org
SUMMARY:Plant Help Desk
DESCRIPTION:Every Wednesday from 1-3 pm: Plant Help Desk at the Oak Park Conservatory. Bring your plant questions and issues to our Friends of the Oak Park Conservatory volunteer expert who will help you on the spot. Bring a plant to be repotted too. Email inquiries to oakparkconservatory@pdop.org or call 708-725-2456\, ext. 2. This is a new free service for the community.
URL:https://fopcon.org/event/plant-help-desk-2-2/2028-08-23/
LOCATION:Oak Park Conservatory\, 615 Garfield\, Oak Park\, IL\, 60304\, United States
ATTACH;FMTTYPE=image/jpeg:https://fopcon.org/wp-content/uploads/2024/04/IMG_2836-1-scaled-e1730402501863.jpeg
END:VEVENT
BEGIN:VEVENT
DTSTART;TZID=America/Chicago:20280830T130000
DTEND;TZID=America/Chicago:20280830T150000
DTSTAMP:20260424T221227
CREATED:20251210T160456Z
LAST-MODIFIED:20251210T160456Z
UID:10000757-1851253200-1851260400@fopcon.org
SUMMARY:Plant Help Desk
DESCRIPTION:Every Wednesday from 1-3 pm: Plant Help Desk at the Oak Park Conservatory. Bring your plant questions and issues to our Friends of the Oak Park Conservatory volunteer expert who will help you on the spot. Bring a plant to be repotted too. Email inquiries to oakparkconservatory@pdop.org or call 708-725-2456\, ext. 2. This is a new free service for the community.
URL:https://fopcon.org/event/plant-help-desk-2-2/2028-08-30/
LOCATION:Oak Park Conservatory\, 615 Garfield\, Oak Park\, IL\, 60304\, United States
ATTACH;FMTTYPE=image/jpeg:https://fopcon.org/wp-content/uploads/2024/04/IMG_2836-1-scaled-e1730402501863.jpeg
END:VEVENT
BEGIN:VEVENT
DTSTART;TZID=America/Chicago:20280906T130000
DTEND;TZID=America/Chicago:20280906T150000
DTSTAMP:20260424T221227
CREATED:20251210T160456Z
LAST-MODIFIED:20251210T160456Z
UID:10000758-1851858000-1851865200@fopcon.org
SUMMARY:Plant Help Desk
DESCRIPTION:Every Wednesday from 1-3 pm: Plant Help Desk at the Oak Park Conservatory. Bring your plant questions and issues to our Friends of the Oak Park Conservatory volunteer expert who will help you on the spot. Bring a plant to be repotted too. Email inquiries to oakparkconservatory@pdop.org or call 708-725-2456\, ext. 2. This is a new free service for the community.
URL:https://fopcon.org/event/plant-help-desk-2-2/2028-09-06/
LOCATION:Oak Park Conservatory\, 615 Garfield\, Oak Park\, IL\, 60304\, United States
ATTACH;FMTTYPE=image/jpeg:https://fopcon.org/wp-content/uploads/2024/04/IMG_2836-1-scaled-e1730402501863.jpeg
END:VEVENT
BEGIN:VEVENT
DTSTART;TZID=America/Chicago:20280913T130000
DTEND;TZID=America/Chicago:20280913T150000
DTSTAMP:20260424T221227
CREATED:20251210T160456Z
LAST-MODIFIED:20251210T160456Z
UID:10000759-1852462800-1852470000@fopcon.org
SUMMARY:Plant Help Desk
DESCRIPTION:Every Wednesday from 1-3 pm: Plant Help Desk at the Oak Park Conservatory. Bring your plant questions and issues to our Friends of the Oak Park Conservatory volunteer expert who will help you on the spot. Bring a plant to be repotted too. Email inquiries to oakparkconservatory@pdop.org or call 708-725-2456\, ext. 2. This is a new free service for the community.
URL:https://fopcon.org/event/plant-help-desk-2-2/2028-09-13/
LOCATION:Oak Park Conservatory\, 615 Garfield\, Oak Park\, IL\, 60304\, United States
ATTACH;FMTTYPE=image/jpeg:https://fopcon.org/wp-content/uploads/2024/04/IMG_2836-1-scaled-e1730402501863.jpeg
END:VEVENT
BEGIN:VEVENT
DTSTART;TZID=America/Chicago:20280920T130000
DTEND;TZID=America/Chicago:20280920T150000
DTSTAMP:20260424T221227
CREATED:20251210T160456Z
LAST-MODIFIED:20251210T160456Z
UID:10000760-1853067600-1853074800@fopcon.org
SUMMARY:Plant Help Desk
DESCRIPTION:Every Wednesday from 1-3 pm: Plant Help Desk at the Oak Park Conservatory. Bring your plant questions and issues to our Friends of the Oak Park Conservatory volunteer expert who will help you on the spot. Bring a plant to be repotted too. Email inquiries to oakparkconservatory@pdop.org or call 708-725-2456\, ext. 2. This is a new free service for the community.
URL:https://fopcon.org/event/plant-help-desk-2-2/2028-09-20/
LOCATION:Oak Park Conservatory\, 615 Garfield\, Oak Park\, IL\, 60304\, United States
ATTACH;FMTTYPE=image/jpeg:https://fopcon.org/wp-content/uploads/2024/04/IMG_2836-1-scaled-e1730402501863.jpeg
END:VEVENT
BEGIN:VEVENT
DTSTART;TZID=America/Chicago:20280927T130000
DTEND;TZID=America/Chicago:20280927T150000
DTSTAMP:20260424T221227
CREATED:20251210T160456Z
LAST-MODIFIED:20251210T160456Z
UID:10000761-1853672400-1853679600@fopcon.org
SUMMARY:Plant Help Desk
DESCRIPTION:Every Wednesday from 1-3 pm: Plant Help Desk at the Oak Park Conservatory. Bring your plant questions and issues to our Friends of the Oak Park Conservatory volunteer expert who will help you on the spot. Bring a plant to be repotted too. Email inquiries to oakparkconservatory@pdop.org or call 708-725-2456\, ext. 2. This is a new free service for the community.
URL:https://fopcon.org/event/plant-help-desk-2-2/2028-09-27/
LOCATION:Oak Park Conservatory\, 615 Garfield\, Oak Park\, IL\, 60304\, United States
ATTACH;FMTTYPE=image/jpeg:https://fopcon.org/wp-content/uploads/2024/04/IMG_2836-1-scaled-e1730402501863.jpeg
END:VEVENT
BEGIN:VEVENT
DTSTART;TZID=America/Chicago:20281004T130000
DTEND;TZID=America/Chicago:20281004T150000
DTSTAMP:20260424T221227
CREATED:20251210T160456Z
LAST-MODIFIED:20251210T160456Z
UID:10000762-1854277200-1854284400@fopcon.org
SUMMARY:Plant Help Desk
DESCRIPTION:Every Wednesday from 1-3 pm: Plant Help Desk at the Oak Park Conservatory. Bring your plant questions and issues to our Friends of the Oak Park Conservatory volunteer expert who will help you on the spot. Bring a plant to be repotted too. Email inquiries to oakparkconservatory@pdop.org or call 708-725-2456\, ext. 2. This is a new free service for the community.
URL:https://fopcon.org/event/plant-help-desk-2-2/2028-10-04/
LOCATION:Oak Park Conservatory\, 615 Garfield\, Oak Park\, IL\, 60304\, United States
ATTACH;FMTTYPE=image/jpeg:https://fopcon.org/wp-content/uploads/2024/04/IMG_2836-1-scaled-e1730402501863.jpeg
END:VEVENT
BEGIN:VEVENT
DTSTART;TZID=America/Chicago:20281011T130000
DTEND;TZID=America/Chicago:20281011T150000
DTSTAMP:20260424T221227
CREATED:20251210T160456Z
LAST-MODIFIED:20251210T160456Z
UID:10000763-1854882000-1854889200@fopcon.org
SUMMARY:Plant Help Desk
DESCRIPTION:Every Wednesday from 1-3 pm: Plant Help Desk at the Oak Park Conservatory. Bring your plant questions and issues to our Friends of the Oak Park Conservatory volunteer expert who will help you on the spot. Bring a plant to be repotted too. Email inquiries to oakparkconservatory@pdop.org or call 708-725-2456\, ext. 2. This is a new free service for the community.
URL:https://fopcon.org/event/plant-help-desk-2-2/2028-10-11/
LOCATION:Oak Park Conservatory\, 615 Garfield\, Oak Park\, IL\, 60304\, United States
ATTACH;FMTTYPE=image/jpeg:https://fopcon.org/wp-content/uploads/2024/04/IMG_2836-1-scaled-e1730402501863.jpeg
END:VEVENT
BEGIN:VEVENT
DTSTART;TZID=America/Chicago:20281018T130000
DTEND;TZID=America/Chicago:20281018T150000
DTSTAMP:20260424T221227
CREATED:20251210T160456Z
LAST-MODIFIED:20251210T160456Z
UID:10000764-1855486800-1855494000@fopcon.org
SUMMARY:Plant Help Desk
DESCRIPTION:Every Wednesday from 1-3 pm: Plant Help Desk at the Oak Park Conservatory. Bring your plant questions and issues to our Friends of the Oak Park Conservatory volunteer expert who will help you on the spot. Bring a plant to be repotted too. Email inquiries to oakparkconservatory@pdop.org or call 708-725-2456\, ext. 2. This is a new free service for the community.
URL:https://fopcon.org/event/plant-help-desk-2-2/2028-10-18/
LOCATION:Oak Park Conservatory\, 615 Garfield\, Oak Park\, IL\, 60304\, United States
ATTACH;FMTTYPE=image/jpeg:https://fopcon.org/wp-content/uploads/2024/04/IMG_2836-1-scaled-e1730402501863.jpeg
END:VEVENT
BEGIN:VEVENT
DTSTART;TZID=America/Chicago:20281025T130000
DTEND;TZID=America/Chicago:20281025T150000
DTSTAMP:20260424T221227
CREATED:20251210T160456Z
LAST-MODIFIED:20251210T160456Z
UID:10000765-1856091600-1856098800@fopcon.org
SUMMARY:Plant Help Desk
DESCRIPTION:Every Wednesday from 1-3 pm: Plant Help Desk at the Oak Park Conservatory. Bring your plant questions and issues to our Friends of the Oak Park Conservatory volunteer expert who will help you on the spot. Bring a plant to be repotted too. Email inquiries to oakparkconservatory@pdop.org or call 708-725-2456\, ext. 2. This is a new free service for the community.
URL:https://fopcon.org/event/plant-help-desk-2-2/2028-10-25/
LOCATION:Oak Park Conservatory\, 615 Garfield\, Oak Park\, IL\, 60304\, United States
ATTACH;FMTTYPE=image/jpeg:https://fopcon.org/wp-content/uploads/2024/04/IMG_2836-1-scaled-e1730402501863.jpeg
END:VEVENT
BEGIN:VEVENT
DTSTART;TZID=America/Chicago:20281101T130000
DTEND;TZID=America/Chicago:20281101T150000
DTSTAMP:20260424T221227
CREATED:20251210T160456Z
LAST-MODIFIED:20251210T160456Z
UID:10000766-1856696400-1856703600@fopcon.org
SUMMARY:Plant Help Desk
DESCRIPTION:Every Wednesday from 1-3 pm: Plant Help Desk at the Oak Park Conservatory. Bring your plant questions and issues to our Friends of the Oak Park Conservatory volunteer expert who will help you on the spot. Bring a plant to be repotted too. Email inquiries to oakparkconservatory@pdop.org or call 708-725-2456\, ext. 2. This is a new free service for the community.
URL:https://fopcon.org/event/plant-help-desk-2-2/2028-11-01/
LOCATION:Oak Park Conservatory\, 615 Garfield\, Oak Park\, IL\, 60304\, United States
ATTACH;FMTTYPE=image/jpeg:https://fopcon.org/wp-content/uploads/2024/04/IMG_2836-1-scaled-e1730402501863.jpeg
END:VEVENT
END:VCALENDAR