BEGIN:VCALENDAR
VERSION:2.0
PRODID:-//Friends of the Oak Park Conservatory - ECPv6.15.20//NONSGML v1.0//EN
CALSCALE:GREGORIAN
METHOD:PUBLISH
X-WR-CALNAME:Friends of the Oak Park Conservatory
X-ORIGINAL-URL:https://fopcon.org
X-WR-CALDESC:Events for Friends of the Oak Park Conservatory
REFRESH-INTERVAL;VALUE=DURATION:PT1H
X-Robots-Tag:noindex
X-PUBLISHED-TTL:PT1H
BEGIN:VTIMEZONE
TZID:America/Chicago
BEGIN:DAYLIGHT
TZOFFSETFROM:-0600
TZOFFSETTO:-0500
TZNAME:CDT
DTSTART:20250309T080000
END:DAYLIGHT
BEGIN:STANDARD
TZOFFSETFROM:-0500
TZOFFSETTO:-0600
TZNAME:CST
DTSTART:20251102T070000
END:STANDARD
BEGIN:DAYLIGHT
TZOFFSETFROM:-0600
TZOFFSETTO:-0500
TZNAME:CDT
DTSTART:20260308T080000
END:DAYLIGHT
BEGIN:STANDARD
TZOFFSETFROM:-0500
TZOFFSETTO:-0600
TZNAME:CST
DTSTART:20261101T070000
END:STANDARD
BEGIN:DAYLIGHT
TZOFFSETFROM:-0600
TZOFFSETTO:-0500
TZNAME:CDT
DTSTART:20270314T080000
END:DAYLIGHT
BEGIN:STANDARD
TZOFFSETFROM:-0500
TZOFFSETTO:-0600
TZNAME:CST
DTSTART:20271107T070000
END:STANDARD
BEGIN:DAYLIGHT
TZOFFSETFROM:-0600
TZOFFSETTO:-0500
TZNAME:CDT
DTSTART:20280312T080000
END:DAYLIGHT
BEGIN:STANDARD
TZOFFSETFROM:-0500
TZOFFSETTO:-0600
TZNAME:CST
DTSTART:20281105T070000
END:STANDARD
END:VTIMEZONE
BEGIN:VEVENT
DTSTART;TZID=America/Chicago:20261125T130000
DTEND;TZID=America/Chicago:20261125T150000
DTSTAMP:20260424T122633
CREATED:20251210T160456Z
LAST-MODIFIED:20251210T160456Z
UID:10000665-1795611600-1795618800@fopcon.org
SUMMARY:Plant Help Desk
DESCRIPTION:Every Wednesday from 1-3 pm: Plant Help Desk at the Oak Park Conservatory. Bring your plant questions and issues to our Friends of the Oak Park Conservatory volunteer expert who will help you on the spot. Bring a plant to be repotted too. Email inquiries to oakparkconservatory@pdop.org or call 708-725-2456\, ext. 2. This is a new free service for the community.
URL:https://fopcon.org/event/plant-help-desk-2-2/2026-11-25/
LOCATION:Oak Park Conservatory\, 615 Garfield\, Oak Park\, IL\, 60304\, United States
ATTACH;FMTTYPE=image/jpeg:https://fopcon.org/wp-content/uploads/2024/04/IMG_2836-1-scaled-e1730402501863.jpeg
END:VEVENT
BEGIN:VEVENT
DTSTART;TZID=America/Chicago:20261202T130000
DTEND;TZID=America/Chicago:20261202T150000
DTSTAMP:20260424T122633
CREATED:20251210T160456Z
LAST-MODIFIED:20251210T160456Z
UID:10000666-1796216400-1796223600@fopcon.org
SUMMARY:Plant Help Desk
DESCRIPTION:Every Wednesday from 1-3 pm: Plant Help Desk at the Oak Park Conservatory. Bring your plant questions and issues to our Friends of the Oak Park Conservatory volunteer expert who will help you on the spot. Bring a plant to be repotted too. Email inquiries to oakparkconservatory@pdop.org or call 708-725-2456\, ext. 2. This is a new free service for the community.
URL:https://fopcon.org/event/plant-help-desk-2-2/2026-12-02/
LOCATION:Oak Park Conservatory\, 615 Garfield\, Oak Park\, IL\, 60304\, United States
ATTACH;FMTTYPE=image/jpeg:https://fopcon.org/wp-content/uploads/2024/04/IMG_2836-1-scaled-e1730402501863.jpeg
END:VEVENT
BEGIN:VEVENT
DTSTART;TZID=America/Chicago:20261209T130000
DTEND;TZID=America/Chicago:20261209T150000
DTSTAMP:20260424T122633
CREATED:20251210T160456Z
LAST-MODIFIED:20251210T160456Z
UID:10000667-1796821200-1796828400@fopcon.org
SUMMARY:Plant Help Desk
DESCRIPTION:Every Wednesday from 1-3 pm: Plant Help Desk at the Oak Park Conservatory. Bring your plant questions and issues to our Friends of the Oak Park Conservatory volunteer expert who will help you on the spot. Bring a plant to be repotted too. Email inquiries to oakparkconservatory@pdop.org or call 708-725-2456\, ext. 2. This is a new free service for the community.
URL:https://fopcon.org/event/plant-help-desk-2-2/2026-12-09/
LOCATION:Oak Park Conservatory\, 615 Garfield\, Oak Park\, IL\, 60304\, United States
ATTACH;FMTTYPE=image/jpeg:https://fopcon.org/wp-content/uploads/2024/04/IMG_2836-1-scaled-e1730402501863.jpeg
END:VEVENT
BEGIN:VEVENT
DTSTART;TZID=America/Chicago:20261216T130000
DTEND;TZID=America/Chicago:20261216T150000
DTSTAMP:20260424T122633
CREATED:20251210T160456Z
LAST-MODIFIED:20251210T160456Z
UID:10000668-1797426000-1797433200@fopcon.org
SUMMARY:Plant Help Desk
DESCRIPTION:Every Wednesday from 1-3 pm: Plant Help Desk at the Oak Park Conservatory. Bring your plant questions and issues to our Friends of the Oak Park Conservatory volunteer expert who will help you on the spot. Bring a plant to be repotted too. Email inquiries to oakparkconservatory@pdop.org or call 708-725-2456\, ext. 2. This is a new free service for the community.
URL:https://fopcon.org/event/plant-help-desk-2-2/2026-12-16/
LOCATION:Oak Park Conservatory\, 615 Garfield\, Oak Park\, IL\, 60304\, United States
ATTACH;FMTTYPE=image/jpeg:https://fopcon.org/wp-content/uploads/2024/04/IMG_2836-1-scaled-e1730402501863.jpeg
END:VEVENT
BEGIN:VEVENT
DTSTART;TZID=America/Chicago:20261223T130000
DTEND;TZID=America/Chicago:20261223T150000
DTSTAMP:20260424T122633
CREATED:20251210T160456Z
LAST-MODIFIED:20251210T160456Z
UID:10000669-1798030800-1798038000@fopcon.org
SUMMARY:Plant Help Desk
DESCRIPTION:Every Wednesday from 1-3 pm: Plant Help Desk at the Oak Park Conservatory. Bring your plant questions and issues to our Friends of the Oak Park Conservatory volunteer expert who will help you on the spot. Bring a plant to be repotted too. Email inquiries to oakparkconservatory@pdop.org or call 708-725-2456\, ext. 2. This is a new free service for the community.
URL:https://fopcon.org/event/plant-help-desk-2-2/2026-12-23/
LOCATION:Oak Park Conservatory\, 615 Garfield\, Oak Park\, IL\, 60304\, United States
ATTACH;FMTTYPE=image/jpeg:https://fopcon.org/wp-content/uploads/2024/04/IMG_2836-1-scaled-e1730402501863.jpeg
END:VEVENT
BEGIN:VEVENT
DTSTART;TZID=America/Chicago:20261230T130000
DTEND;TZID=America/Chicago:20261230T150000
DTSTAMP:20260424T122633
CREATED:20251210T160456Z
LAST-MODIFIED:20251210T160456Z
UID:10000670-1798635600-1798642800@fopcon.org
SUMMARY:Plant Help Desk
DESCRIPTION:Every Wednesday from 1-3 pm: Plant Help Desk at the Oak Park Conservatory. Bring your plant questions and issues to our Friends of the Oak Park Conservatory volunteer expert who will help you on the spot. Bring a plant to be repotted too. Email inquiries to oakparkconservatory@pdop.org or call 708-725-2456\, ext. 2. This is a new free service for the community.
URL:https://fopcon.org/event/plant-help-desk-2-2/2026-12-30/
LOCATION:Oak Park Conservatory\, 615 Garfield\, Oak Park\, IL\, 60304\, United States
ATTACH;FMTTYPE=image/jpeg:https://fopcon.org/wp-content/uploads/2024/04/IMG_2836-1-scaled-e1730402501863.jpeg
END:VEVENT
BEGIN:VEVENT
DTSTART;TZID=America/Chicago:20270106T130000
DTEND;TZID=America/Chicago:20270106T150000
DTSTAMP:20260424T122633
CREATED:20251210T160456Z
LAST-MODIFIED:20251210T160456Z
UID:10000671-1799240400-1799247600@fopcon.org
SUMMARY:Plant Help Desk
DESCRIPTION:Every Wednesday from 1-3 pm: Plant Help Desk at the Oak Park Conservatory. Bring your plant questions and issues to our Friends of the Oak Park Conservatory volunteer expert who will help you on the spot. Bring a plant to be repotted too. Email inquiries to oakparkconservatory@pdop.org or call 708-725-2456\, ext. 2. This is a new free service for the community.
URL:https://fopcon.org/event/plant-help-desk-2-2/2027-01-06/
LOCATION:Oak Park Conservatory\, 615 Garfield\, Oak Park\, IL\, 60304\, United States
ATTACH;FMTTYPE=image/jpeg:https://fopcon.org/wp-content/uploads/2024/04/IMG_2836-1-scaled-e1730402501863.jpeg
END:VEVENT
BEGIN:VEVENT
DTSTART;TZID=America/Chicago:20270113T130000
DTEND;TZID=America/Chicago:20270113T150000
DTSTAMP:20260424T122633
CREATED:20251210T160456Z
LAST-MODIFIED:20251210T160456Z
UID:10000672-1799845200-1799852400@fopcon.org
SUMMARY:Plant Help Desk
DESCRIPTION:Every Wednesday from 1-3 pm: Plant Help Desk at the Oak Park Conservatory. Bring your plant questions and issues to our Friends of the Oak Park Conservatory volunteer expert who will help you on the spot. Bring a plant to be repotted too. Email inquiries to oakparkconservatory@pdop.org or call 708-725-2456\, ext. 2. This is a new free service for the community.
URL:https://fopcon.org/event/plant-help-desk-2-2/2027-01-13/
LOCATION:Oak Park Conservatory\, 615 Garfield\, Oak Park\, IL\, 60304\, United States
ATTACH;FMTTYPE=image/jpeg:https://fopcon.org/wp-content/uploads/2024/04/IMG_2836-1-scaled-e1730402501863.jpeg
END:VEVENT
BEGIN:VEVENT
DTSTART;TZID=America/Chicago:20270120T130000
DTEND;TZID=America/Chicago:20270120T150000
DTSTAMP:20260424T122633
CREATED:20251210T160456Z
LAST-MODIFIED:20251210T160456Z
UID:10000673-1800450000-1800457200@fopcon.org
SUMMARY:Plant Help Desk
DESCRIPTION:Every Wednesday from 1-3 pm: Plant Help Desk at the Oak Park Conservatory. Bring your plant questions and issues to our Friends of the Oak Park Conservatory volunteer expert who will help you on the spot. Bring a plant to be repotted too. Email inquiries to oakparkconservatory@pdop.org or call 708-725-2456\, ext. 2. This is a new free service for the community.
URL:https://fopcon.org/event/plant-help-desk-2-2/2027-01-20/
LOCATION:Oak Park Conservatory\, 615 Garfield\, Oak Park\, IL\, 60304\, United States
ATTACH;FMTTYPE=image/jpeg:https://fopcon.org/wp-content/uploads/2024/04/IMG_2836-1-scaled-e1730402501863.jpeg
END:VEVENT
BEGIN:VEVENT
DTSTART;TZID=America/Chicago:20270127T130000
DTEND;TZID=America/Chicago:20270127T150000
DTSTAMP:20260424T122633
CREATED:20251210T160456Z
LAST-MODIFIED:20251210T160456Z
UID:10000674-1801054800-1801062000@fopcon.org
SUMMARY:Plant Help Desk
DESCRIPTION:Every Wednesday from 1-3 pm: Plant Help Desk at the Oak Park Conservatory. Bring your plant questions and issues to our Friends of the Oak Park Conservatory volunteer expert who will help you on the spot. Bring a plant to be repotted too. Email inquiries to oakparkconservatory@pdop.org or call 708-725-2456\, ext. 2. This is a new free service for the community.
URL:https://fopcon.org/event/plant-help-desk-2-2/2027-01-27/
LOCATION:Oak Park Conservatory\, 615 Garfield\, Oak Park\, IL\, 60304\, United States
ATTACH;FMTTYPE=image/jpeg:https://fopcon.org/wp-content/uploads/2024/04/IMG_2836-1-scaled-e1730402501863.jpeg
END:VEVENT
BEGIN:VEVENT
DTSTART;TZID=America/Chicago:20270203T130000
DTEND;TZID=America/Chicago:20270203T150000
DTSTAMP:20260424T122633
CREATED:20251210T160456Z
LAST-MODIFIED:20251210T160456Z
UID:10000675-1801659600-1801666800@fopcon.org
SUMMARY:Plant Help Desk
DESCRIPTION:Every Wednesday from 1-3 pm: Plant Help Desk at the Oak Park Conservatory. Bring your plant questions and issues to our Friends of the Oak Park Conservatory volunteer expert who will help you on the spot. Bring a plant to be repotted too. Email inquiries to oakparkconservatory@pdop.org or call 708-725-2456\, ext. 2. This is a new free service for the community.
URL:https://fopcon.org/event/plant-help-desk-2-2/2027-02-03/
LOCATION:Oak Park Conservatory\, 615 Garfield\, Oak Park\, IL\, 60304\, United States
ATTACH;FMTTYPE=image/jpeg:https://fopcon.org/wp-content/uploads/2024/04/IMG_2836-1-scaled-e1730402501863.jpeg
END:VEVENT
BEGIN:VEVENT
DTSTART;TZID=America/Chicago:20270210T130000
DTEND;TZID=America/Chicago:20270210T150000
DTSTAMP:20260424T122633
CREATED:20251210T160456Z
LAST-MODIFIED:20251210T160456Z
UID:10000676-1802264400-1802271600@fopcon.org
SUMMARY:Plant Help Desk
DESCRIPTION:Every Wednesday from 1-3 pm: Plant Help Desk at the Oak Park Conservatory. Bring your plant questions and issues to our Friends of the Oak Park Conservatory volunteer expert who will help you on the spot. Bring a plant to be repotted too. Email inquiries to oakparkconservatory@pdop.org or call 708-725-2456\, ext. 2. This is a new free service for the community.
URL:https://fopcon.org/event/plant-help-desk-2-2/2027-02-10/
LOCATION:Oak Park Conservatory\, 615 Garfield\, Oak Park\, IL\, 60304\, United States
ATTACH;FMTTYPE=image/jpeg:https://fopcon.org/wp-content/uploads/2024/04/IMG_2836-1-scaled-e1730402501863.jpeg
END:VEVENT
BEGIN:VEVENT
DTSTART;TZID=America/Chicago:20270217T130000
DTEND;TZID=America/Chicago:20270217T150000
DTSTAMP:20260424T122633
CREATED:20251210T160456Z
LAST-MODIFIED:20251210T160456Z
UID:10000677-1802869200-1802876400@fopcon.org
SUMMARY:Plant Help Desk
DESCRIPTION:Every Wednesday from 1-3 pm: Plant Help Desk at the Oak Park Conservatory. Bring your plant questions and issues to our Friends of the Oak Park Conservatory volunteer expert who will help you on the spot. Bring a plant to be repotted too. Email inquiries to oakparkconservatory@pdop.org or call 708-725-2456\, ext. 2. This is a new free service for the community.
URL:https://fopcon.org/event/plant-help-desk-2-2/2027-02-17/
LOCATION:Oak Park Conservatory\, 615 Garfield\, Oak Park\, IL\, 60304\, United States
ATTACH;FMTTYPE=image/jpeg:https://fopcon.org/wp-content/uploads/2024/04/IMG_2836-1-scaled-e1730402501863.jpeg
END:VEVENT
BEGIN:VEVENT
DTSTART;TZID=America/Chicago:20270224T130000
DTEND;TZID=America/Chicago:20270224T150000
DTSTAMP:20260424T122633
CREATED:20251210T160456Z
LAST-MODIFIED:20251210T160456Z
UID:10000678-1803474000-1803481200@fopcon.org
SUMMARY:Plant Help Desk
DESCRIPTION:Every Wednesday from 1-3 pm: Plant Help Desk at the Oak Park Conservatory. Bring your plant questions and issues to our Friends of the Oak Park Conservatory volunteer expert who will help you on the spot. Bring a plant to be repotted too. Email inquiries to oakparkconservatory@pdop.org or call 708-725-2456\, ext. 2. This is a new free service for the community.
URL:https://fopcon.org/event/plant-help-desk-2-2/2027-02-24/
LOCATION:Oak Park Conservatory\, 615 Garfield\, Oak Park\, IL\, 60304\, United States
ATTACH;FMTTYPE=image/jpeg:https://fopcon.org/wp-content/uploads/2024/04/IMG_2836-1-scaled-e1730402501863.jpeg
END:VEVENT
BEGIN:VEVENT
DTSTART;TZID=America/Chicago:20270303T130000
DTEND;TZID=America/Chicago:20270303T150000
DTSTAMP:20260424T122633
CREATED:20251210T160456Z
LAST-MODIFIED:20251210T160456Z
UID:10000679-1804078800-1804086000@fopcon.org
SUMMARY:Plant Help Desk
DESCRIPTION:Every Wednesday from 1-3 pm: Plant Help Desk at the Oak Park Conservatory. Bring your plant questions and issues to our Friends of the Oak Park Conservatory volunteer expert who will help you on the spot. Bring a plant to be repotted too. Email inquiries to oakparkconservatory@pdop.org or call 708-725-2456\, ext. 2. This is a new free service for the community.
URL:https://fopcon.org/event/plant-help-desk-2-2/2027-03-03/
LOCATION:Oak Park Conservatory\, 615 Garfield\, Oak Park\, IL\, 60304\, United States
ATTACH;FMTTYPE=image/jpeg:https://fopcon.org/wp-content/uploads/2024/04/IMG_2836-1-scaled-e1730402501863.jpeg
END:VEVENT
BEGIN:VEVENT
DTSTART;TZID=America/Chicago:20270310T130000
DTEND;TZID=America/Chicago:20270310T150000
DTSTAMP:20260424T122633
CREATED:20251210T160456Z
LAST-MODIFIED:20251210T160456Z
UID:10000680-1804683600-1804690800@fopcon.org
SUMMARY:Plant Help Desk
DESCRIPTION:Every Wednesday from 1-3 pm: Plant Help Desk at the Oak Park Conservatory. Bring your plant questions and issues to our Friends of the Oak Park Conservatory volunteer expert who will help you on the spot. Bring a plant to be repotted too. Email inquiries to oakparkconservatory@pdop.org or call 708-725-2456\, ext. 2. This is a new free service for the community.
URL:https://fopcon.org/event/plant-help-desk-2-2/2027-03-10/
LOCATION:Oak Park Conservatory\, 615 Garfield\, Oak Park\, IL\, 60304\, United States
ATTACH;FMTTYPE=image/jpeg:https://fopcon.org/wp-content/uploads/2024/04/IMG_2836-1-scaled-e1730402501863.jpeg
END:VEVENT
BEGIN:VEVENT
DTSTART;TZID=America/Chicago:20270317T130000
DTEND;TZID=America/Chicago:20270317T150000
DTSTAMP:20260424T122633
CREATED:20251210T160456Z
LAST-MODIFIED:20251210T160456Z
UID:10000681-1805288400-1805295600@fopcon.org
SUMMARY:Plant Help Desk
DESCRIPTION:Every Wednesday from 1-3 pm: Plant Help Desk at the Oak Park Conservatory. Bring your plant questions and issues to our Friends of the Oak Park Conservatory volunteer expert who will help you on the spot. Bring a plant to be repotted too. Email inquiries to oakparkconservatory@pdop.org or call 708-725-2456\, ext. 2. This is a new free service for the community.
URL:https://fopcon.org/event/plant-help-desk-2-2/2027-03-17/
LOCATION:Oak Park Conservatory\, 615 Garfield\, Oak Park\, IL\, 60304\, United States
ATTACH;FMTTYPE=image/jpeg:https://fopcon.org/wp-content/uploads/2024/04/IMG_2836-1-scaled-e1730402501863.jpeg
END:VEVENT
BEGIN:VEVENT
DTSTART;TZID=America/Chicago:20270324T130000
DTEND;TZID=America/Chicago:20270324T150000
DTSTAMP:20260424T122633
CREATED:20251210T160456Z
LAST-MODIFIED:20251210T160456Z
UID:10000682-1805893200-1805900400@fopcon.org
SUMMARY:Plant Help Desk
DESCRIPTION:Every Wednesday from 1-3 pm: Plant Help Desk at the Oak Park Conservatory. Bring your plant questions and issues to our Friends of the Oak Park Conservatory volunteer expert who will help you on the spot. Bring a plant to be repotted too. Email inquiries to oakparkconservatory@pdop.org or call 708-725-2456\, ext. 2. This is a new free service for the community.
URL:https://fopcon.org/event/plant-help-desk-2-2/2027-03-24/
LOCATION:Oak Park Conservatory\, 615 Garfield\, Oak Park\, IL\, 60304\, United States
ATTACH;FMTTYPE=image/jpeg:https://fopcon.org/wp-content/uploads/2024/04/IMG_2836-1-scaled-e1730402501863.jpeg
END:VEVENT
BEGIN:VEVENT
DTSTART;TZID=America/Chicago:20270331T130000
DTEND;TZID=America/Chicago:20270331T150000
DTSTAMP:20260424T122633
CREATED:20251210T160456Z
LAST-MODIFIED:20251210T160456Z
UID:10000683-1806498000-1806505200@fopcon.org
SUMMARY:Plant Help Desk
DESCRIPTION:Every Wednesday from 1-3 pm: Plant Help Desk at the Oak Park Conservatory. Bring your plant questions and issues to our Friends of the Oak Park Conservatory volunteer expert who will help you on the spot. Bring a plant to be repotted too. Email inquiries to oakparkconservatory@pdop.org or call 708-725-2456\, ext. 2. This is a new free service for the community.
URL:https://fopcon.org/event/plant-help-desk-2-2/2027-03-31/
LOCATION:Oak Park Conservatory\, 615 Garfield\, Oak Park\, IL\, 60304\, United States
ATTACH;FMTTYPE=image/jpeg:https://fopcon.org/wp-content/uploads/2024/04/IMG_2836-1-scaled-e1730402501863.jpeg
END:VEVENT
BEGIN:VEVENT
DTSTART;TZID=America/Chicago:20270407T130000
DTEND;TZID=America/Chicago:20270407T150000
DTSTAMP:20260424T122633
CREATED:20251210T160456Z
LAST-MODIFIED:20251210T160456Z
UID:10000684-1807102800-1807110000@fopcon.org
SUMMARY:Plant Help Desk
DESCRIPTION:Every Wednesday from 1-3 pm: Plant Help Desk at the Oak Park Conservatory. Bring your plant questions and issues to our Friends of the Oak Park Conservatory volunteer expert who will help you on the spot. Bring a plant to be repotted too. Email inquiries to oakparkconservatory@pdop.org or call 708-725-2456\, ext. 2. This is a new free service for the community.
URL:https://fopcon.org/event/plant-help-desk-2-2/2027-04-07/
LOCATION:Oak Park Conservatory\, 615 Garfield\, Oak Park\, IL\, 60304\, United States
ATTACH;FMTTYPE=image/jpeg:https://fopcon.org/wp-content/uploads/2024/04/IMG_2836-1-scaled-e1730402501863.jpeg
END:VEVENT
BEGIN:VEVENT
DTSTART;TZID=America/Chicago:20270414T130000
DTEND;TZID=America/Chicago:20270414T150000
DTSTAMP:20260424T122633
CREATED:20251210T160456Z
LAST-MODIFIED:20251210T160456Z
UID:10000685-1807707600-1807714800@fopcon.org
SUMMARY:Plant Help Desk
DESCRIPTION:Every Wednesday from 1-3 pm: Plant Help Desk at the Oak Park Conservatory. Bring your plant questions and issues to our Friends of the Oak Park Conservatory volunteer expert who will help you on the spot. Bring a plant to be repotted too. Email inquiries to oakparkconservatory@pdop.org or call 708-725-2456\, ext. 2. This is a new free service for the community.
URL:https://fopcon.org/event/plant-help-desk-2-2/2027-04-14/
LOCATION:Oak Park Conservatory\, 615 Garfield\, Oak Park\, IL\, 60304\, United States
ATTACH;FMTTYPE=image/jpeg:https://fopcon.org/wp-content/uploads/2024/04/IMG_2836-1-scaled-e1730402501863.jpeg
END:VEVENT
BEGIN:VEVENT
DTSTART;TZID=America/Chicago:20270421T130000
DTEND;TZID=America/Chicago:20270421T150000
DTSTAMP:20260424T122633
CREATED:20251210T160456Z
LAST-MODIFIED:20251210T160456Z
UID:10000686-1808312400-1808319600@fopcon.org
SUMMARY:Plant Help Desk
DESCRIPTION:Every Wednesday from 1-3 pm: Plant Help Desk at the Oak Park Conservatory. Bring your plant questions and issues to our Friends of the Oak Park Conservatory volunteer expert who will help you on the spot. Bring a plant to be repotted too. Email inquiries to oakparkconservatory@pdop.org or call 708-725-2456\, ext. 2. This is a new free service for the community.
URL:https://fopcon.org/event/plant-help-desk-2-2/2027-04-21/
LOCATION:Oak Park Conservatory\, 615 Garfield\, Oak Park\, IL\, 60304\, United States
ATTACH;FMTTYPE=image/jpeg:https://fopcon.org/wp-content/uploads/2024/04/IMG_2836-1-scaled-e1730402501863.jpeg
END:VEVENT
BEGIN:VEVENT
DTSTART;TZID=America/Chicago:20270428T130000
DTEND;TZID=America/Chicago:20270428T150000
DTSTAMP:20260424T122633
CREATED:20251210T160456Z
LAST-MODIFIED:20251210T160456Z
UID:10000687-1808917200-1808924400@fopcon.org
SUMMARY:Plant Help Desk
DESCRIPTION:Every Wednesday from 1-3 pm: Plant Help Desk at the Oak Park Conservatory. Bring your plant questions and issues to our Friends of the Oak Park Conservatory volunteer expert who will help you on the spot. Bring a plant to be repotted too. Email inquiries to oakparkconservatory@pdop.org or call 708-725-2456\, ext. 2. This is a new free service for the community.
URL:https://fopcon.org/event/plant-help-desk-2-2/2027-04-28/
LOCATION:Oak Park Conservatory\, 615 Garfield\, Oak Park\, IL\, 60304\, United States
ATTACH;FMTTYPE=image/jpeg:https://fopcon.org/wp-content/uploads/2024/04/IMG_2836-1-scaled-e1730402501863.jpeg
END:VEVENT
BEGIN:VEVENT
DTSTART;TZID=America/Chicago:20270505T130000
DTEND;TZID=America/Chicago:20270505T150000
DTSTAMP:20260424T122633
CREATED:20251210T160456Z
LAST-MODIFIED:20251210T160456Z
UID:10000688-1809522000-1809529200@fopcon.org
SUMMARY:Plant Help Desk
DESCRIPTION:Every Wednesday from 1-3 pm: Plant Help Desk at the Oak Park Conservatory. Bring your plant questions and issues to our Friends of the Oak Park Conservatory volunteer expert who will help you on the spot. Bring a plant to be repotted too. Email inquiries to oakparkconservatory@pdop.org or call 708-725-2456\, ext. 2. This is a new free service for the community.
URL:https://fopcon.org/event/plant-help-desk-2-2/2027-05-05/
LOCATION:Oak Park Conservatory\, 615 Garfield\, Oak Park\, IL\, 60304\, United States
ATTACH;FMTTYPE=image/jpeg:https://fopcon.org/wp-content/uploads/2024/04/IMG_2836-1-scaled-e1730402501863.jpeg
END:VEVENT
BEGIN:VEVENT
DTSTART;TZID=America/Chicago:20270512T130000
DTEND;TZID=America/Chicago:20270512T150000
DTSTAMP:20260424T122633
CREATED:20251210T160456Z
LAST-MODIFIED:20251210T160456Z
UID:10000689-1810126800-1810134000@fopcon.org
SUMMARY:Plant Help Desk
DESCRIPTION:Every Wednesday from 1-3 pm: Plant Help Desk at the Oak Park Conservatory. Bring your plant questions and issues to our Friends of the Oak Park Conservatory volunteer expert who will help you on the spot. Bring a plant to be repotted too. Email inquiries to oakparkconservatory@pdop.org or call 708-725-2456\, ext. 2. This is a new free service for the community.
URL:https://fopcon.org/event/plant-help-desk-2-2/2027-05-12/
LOCATION:Oak Park Conservatory\, 615 Garfield\, Oak Park\, IL\, 60304\, United States
ATTACH;FMTTYPE=image/jpeg:https://fopcon.org/wp-content/uploads/2024/04/IMG_2836-1-scaled-e1730402501863.jpeg
END:VEVENT
BEGIN:VEVENT
DTSTART;TZID=America/Chicago:20270519T130000
DTEND;TZID=America/Chicago:20270519T150000
DTSTAMP:20260424T122633
CREATED:20251210T160456Z
LAST-MODIFIED:20251210T160456Z
UID:10000690-1810731600-1810738800@fopcon.org
SUMMARY:Plant Help Desk
DESCRIPTION:Every Wednesday from 1-3 pm: Plant Help Desk at the Oak Park Conservatory. Bring your plant questions and issues to our Friends of the Oak Park Conservatory volunteer expert who will help you on the spot. Bring a plant to be repotted too. Email inquiries to oakparkconservatory@pdop.org or call 708-725-2456\, ext. 2. This is a new free service for the community.
URL:https://fopcon.org/event/plant-help-desk-2-2/2027-05-19/
LOCATION:Oak Park Conservatory\, 615 Garfield\, Oak Park\, IL\, 60304\, United States
ATTACH;FMTTYPE=image/jpeg:https://fopcon.org/wp-content/uploads/2024/04/IMG_2836-1-scaled-e1730402501863.jpeg
END:VEVENT
BEGIN:VEVENT
DTSTART;TZID=America/Chicago:20270526T130000
DTEND;TZID=America/Chicago:20270526T150000
DTSTAMP:20260424T122633
CREATED:20251210T160456Z
LAST-MODIFIED:20251210T160456Z
UID:10000691-1811336400-1811343600@fopcon.org
SUMMARY:Plant Help Desk
DESCRIPTION:Every Wednesday from 1-3 pm: Plant Help Desk at the Oak Park Conservatory. Bring your plant questions and issues to our Friends of the Oak Park Conservatory volunteer expert who will help you on the spot. Bring a plant to be repotted too. Email inquiries to oakparkconservatory@pdop.org or call 708-725-2456\, ext. 2. This is a new free service for the community.
URL:https://fopcon.org/event/plant-help-desk-2-2/2027-05-26/
LOCATION:Oak Park Conservatory\, 615 Garfield\, Oak Park\, IL\, 60304\, United States
ATTACH;FMTTYPE=image/jpeg:https://fopcon.org/wp-content/uploads/2024/04/IMG_2836-1-scaled-e1730402501863.jpeg
END:VEVENT
BEGIN:VEVENT
DTSTART;TZID=America/Chicago:20270602T130000
DTEND;TZID=America/Chicago:20270602T150000
DTSTAMP:20260424T122633
CREATED:20251210T160456Z
LAST-MODIFIED:20251210T160456Z
UID:10000692-1811941200-1811948400@fopcon.org
SUMMARY:Plant Help Desk
DESCRIPTION:Every Wednesday from 1-3 pm: Plant Help Desk at the Oak Park Conservatory. Bring your plant questions and issues to our Friends of the Oak Park Conservatory volunteer expert who will help you on the spot. Bring a plant to be repotted too. Email inquiries to oakparkconservatory@pdop.org or call 708-725-2456\, ext. 2. This is a new free service for the community.
URL:https://fopcon.org/event/plant-help-desk-2-2/2027-06-02/
LOCATION:Oak Park Conservatory\, 615 Garfield\, Oak Park\, IL\, 60304\, United States
ATTACH;FMTTYPE=image/jpeg:https://fopcon.org/wp-content/uploads/2024/04/IMG_2836-1-scaled-e1730402501863.jpeg
END:VEVENT
BEGIN:VEVENT
DTSTART;TZID=America/Chicago:20270609T130000
DTEND;TZID=America/Chicago:20270609T150000
DTSTAMP:20260424T122633
CREATED:20251210T160456Z
LAST-MODIFIED:20251210T160456Z
UID:10000693-1812546000-1812553200@fopcon.org
SUMMARY:Plant Help Desk
DESCRIPTION:Every Wednesday from 1-3 pm: Plant Help Desk at the Oak Park Conservatory. Bring your plant questions and issues to our Friends of the Oak Park Conservatory volunteer expert who will help you on the spot. Bring a plant to be repotted too. Email inquiries to oakparkconservatory@pdop.org or call 708-725-2456\, ext. 2. This is a new free service for the community.
URL:https://fopcon.org/event/plant-help-desk-2-2/2027-06-09/
LOCATION:Oak Park Conservatory\, 615 Garfield\, Oak Park\, IL\, 60304\, United States
ATTACH;FMTTYPE=image/jpeg:https://fopcon.org/wp-content/uploads/2024/04/IMG_2836-1-scaled-e1730402501863.jpeg
END:VEVENT
BEGIN:VEVENT
DTSTART;TZID=America/Chicago:20270616T130000
DTEND;TZID=America/Chicago:20270616T150000
DTSTAMP:20260424T122633
CREATED:20251210T160456Z
LAST-MODIFIED:20251210T160456Z
UID:10000694-1813150800-1813158000@fopcon.org
SUMMARY:Plant Help Desk
DESCRIPTION:Every Wednesday from 1-3 pm: Plant Help Desk at the Oak Park Conservatory. Bring your plant questions and issues to our Friends of the Oak Park Conservatory volunteer expert who will help you on the spot. Bring a plant to be repotted too. Email inquiries to oakparkconservatory@pdop.org or call 708-725-2456\, ext. 2. This is a new free service for the community.
URL:https://fopcon.org/event/plant-help-desk-2-2/2027-06-16/
LOCATION:Oak Park Conservatory\, 615 Garfield\, Oak Park\, IL\, 60304\, United States
ATTACH;FMTTYPE=image/jpeg:https://fopcon.org/wp-content/uploads/2024/04/IMG_2836-1-scaled-e1730402501863.jpeg
END:VEVENT
END:VCALENDAR