BEGIN:VCALENDAR
VERSION:2.0
PRODID:-//Friends of the Oak Park Conservatory - ECPv6.15.20//NONSGML v1.0//EN
CALSCALE:GREGORIAN
METHOD:PUBLISH
X-ORIGINAL-URL:https://fopcon.org
X-WR-CALDESC:Events for Friends of the Oak Park Conservatory
REFRESH-INTERVAL;VALUE=DURATION:PT1H
X-Robots-Tag:noindex
X-PUBLISHED-TTL:PT1H
BEGIN:VTIMEZONE
TZID:America/Chicago
BEGIN:DAYLIGHT
TZOFFSETFROM:-0600
TZOFFSETTO:-0500
TZNAME:CDT
DTSTART:20190310T080000
END:DAYLIGHT
BEGIN:STANDARD
TZOFFSETFROM:-0500
TZOFFSETTO:-0600
TZNAME:CST
DTSTART:20191103T070000
END:STANDARD
BEGIN:DAYLIGHT
TZOFFSETFROM:-0600
TZOFFSETTO:-0500
TZNAME:CDT
DTSTART:20200308T080000
END:DAYLIGHT
BEGIN:STANDARD
TZOFFSETFROM:-0500
TZOFFSETTO:-0600
TZNAME:CST
DTSTART:20201101T070000
END:STANDARD
BEGIN:DAYLIGHT
TZOFFSETFROM:-0600
TZOFFSETTO:-0500
TZNAME:CDT
DTSTART:20210314T080000
END:DAYLIGHT
BEGIN:STANDARD
TZOFFSETFROM:-0500
TZOFFSETTO:-0600
TZNAME:CST
DTSTART:20211107T070000
END:STANDARD
END:VTIMEZONE
BEGIN:VEVENT
DTSTART;TZID=America/Chicago:20200123T190000
DTEND;TZID=America/Chicago:20200123T200000
DTSTAMP:20260420T080759
CREATED:20191219T184831Z
LAST-MODIFIED:20191219T184831Z
UID:10000071-1579806000-1579809600@fopcon.org
SUMMARY:Rain Gardens 101: How To\, January 23
DESCRIPTION:Are you curious about Rain Gardens and how they can benefit your garden? Join us as Jerry Hossli\, University of IL Extension Master Gardener\, Composter and Naturalist introduces us to Rain Gardens 101.  FREE – at the Oak Park Public Library\, Main location.  We will meet in the 1st floor Community Engagement Space behind the check out.  Register online here.  \nYou will learn the basics of rain gardening design\, as well as how to build and plant a rain garden. The talk will also cover water conservation and identifying what native plants work best in these types of gardens.  Rain gardens are shallow\, constructed depressions planted with deep-rooted native plants and grasses. Installing a rain garden is an inexpensive\, simple to implement and environmentally sound solution to residential and urban stormwater runoff. \nJerry Hossli has been working in the community since 2008. He has designed and built rain gardens\, bird gardens and native ponds at Cook County Forest Preserve nature centers. Working with the Conservation@Home program he has delivered talks and workshops on bird gardens\, beneficial insects\, soils\, insect hotels\, landscape design and composting.  He retired from his own landscaping and garden coach business last year and now devotes all of his free time to volunteering.  He has been digging in the yard since 1970. \nSpace is limited so register online today!  Walk in registration accepted as space allows.   \nAre you a Master Gardener?  Attend and earn education credits. 
URL:https://fopcon.org/event/rain-gardens-101-how-to/
LOCATION:Oak Park Public Library Main\, 834 Lake Street\, IL\, United States
ATTACH;FMTTYPE=image/png:https://fopcon.org/wp-content/uploads/2019/12/RainGarden_1.png
END:VEVENT
END:VCALENDAR