BEGIN:VCALENDAR
VERSION:2.0
PRODID:-//Friends of the Oak Park Conservatory - ECPv6.15.20//NONSGML v1.0//EN
CALSCALE:GREGORIAN
METHOD:PUBLISH
X-ORIGINAL-URL:https://fopcon.org
X-WR-CALDESC:Events for Friends of the Oak Park Conservatory
REFRESH-INTERVAL;VALUE=DURATION:PT1H
X-Robots-Tag:noindex
X-PUBLISHED-TTL:PT1H
BEGIN:VTIMEZONE
TZID:America/Chicago
BEGIN:DAYLIGHT
TZOFFSETFROM:-0600
TZOFFSETTO:-0500
TZNAME:CDT
DTSTART:20190310T080000
END:DAYLIGHT
BEGIN:STANDARD
TZOFFSETFROM:-0500
TZOFFSETTO:-0600
TZNAME:CST
DTSTART:20191103T070000
END:STANDARD
BEGIN:DAYLIGHT
TZOFFSETFROM:-0600
TZOFFSETTO:-0500
TZNAME:CDT
DTSTART:20200308T080000
END:DAYLIGHT
BEGIN:STANDARD
TZOFFSETFROM:-0500
TZOFFSETTO:-0600
TZNAME:CST
DTSTART:20201101T070000
END:STANDARD
BEGIN:DAYLIGHT
TZOFFSETFROM:-0600
TZOFFSETTO:-0500
TZNAME:CDT
DTSTART:20210314T080000
END:DAYLIGHT
BEGIN:STANDARD
TZOFFSETFROM:-0500
TZOFFSETTO:-0600
TZNAME:CST
DTSTART:20211107T070000
END:STANDARD
BEGIN:DAYLIGHT
TZOFFSETFROM:-0600
TZOFFSETTO:-0500
TZNAME:CDT
DTSTART:20220313T080000
END:DAYLIGHT
BEGIN:STANDARD
TZOFFSETFROM:-0500
TZOFFSETTO:-0600
TZNAME:CST
DTSTART:20221106T070000
END:STANDARD
BEGIN:DAYLIGHT
TZOFFSETFROM:-0600
TZOFFSETTO:-0500
TZNAME:CDT
DTSTART:20230312T080000
END:DAYLIGHT
BEGIN:STANDARD
TZOFFSETFROM:-0500
TZOFFSETTO:-0600
TZNAME:CST
DTSTART:20231105T070000
END:STANDARD
BEGIN:DAYLIGHT
TZOFFSETFROM:-0600
TZOFFSETTO:-0500
TZNAME:CDT
DTSTART:20240310T080000
END:DAYLIGHT
BEGIN:STANDARD
TZOFFSETFROM:-0500
TZOFFSETTO:-0600
TZNAME:CST
DTSTART:20241103T070000
END:STANDARD
END:VTIMEZONE
BEGIN:VEVENT
DTSTART;TZID=America/Chicago:20230216T190000
DTEND;TZID=America/Chicago:20230216T200000
DTSTAMP:20260419T093128
CREATED:20220831T203354Z
LAST-MODIFIED:20221028T190645Z
UID:10000106-1676574000-1676577600@fopcon.org
SUMMARY:Growing Irises
DESCRIPTION:Join the Friends of the Oak Park Conservatory as we welcome the American Iris Society for this lecture on growing irises. You will learn the basics of when\, where\, and how to plant\, soil preparation\, spacing\, care\, and dividing of these lovely plants.  This is a FREE\, virtual event.  A zoom link will be emailed to all registrants the day of the lecture. \nRegister HERE.
URL:https://fopcon.org/event/growing-irises/
LOCATION:Online
CATEGORIES:Upcoming Events
ATTACH;FMTTYPE=image/png:https://fopcon.org/wp-content/uploads/2022/08/6d83b747-0c4a-4ce0-ac20-13d3d4d4c3f7_iris_blueflag.png
END:VEVENT
BEGIN:VEVENT
DTSTART;TZID=America/Chicago:20221103T190000
DTEND;TZID=America/Chicago:20221103T200000
DTSTAMP:20260419T093128
CREATED:20220831T202238Z
LAST-MODIFIED:20221028T190632Z
UID:10000105-1667502000-1667505600@fopcon.org
SUMMARY:Intro to the Native Paw Paw Tree
DESCRIPTION:Asimina triloba\, the North American pawpaw\, is more ancient than the native peoples of the Americas — it goes back millions of years. With a renewed interest in pawpaw and its delicious edible fruit\, join the Friends of the Oak Park Conservatory to learn the history\, preservation\, and how to incorporate this important tree into your landscape.  This is a FREE\, virtual event.  Participants will receive a zoom link the day of the lecture. \nRegister HERE.
URL:https://fopcon.org/event/intro-to-the-native-pawpaw-tree/
LOCATION:Online
CATEGORIES:Upcoming Events
ATTACH;FMTTYPE=image/png:https://fopcon.org/wp-content/uploads/2022/08/225c5d47-8013-44b0-93e0-17e0ed0769c6_paw_paw.png
END:VEVENT
BEGIN:VEVENT
DTSTART;TZID=America/Chicago:20221006T190000
DTEND;TZID=America/Chicago:20221006T200000
DTSTAMP:20260419T093128
CREATED:20220831T201210Z
LAST-MODIFIED:20221003T134822Z
UID:10000103-1665082800-1665086400@fopcon.org
SUMMARY:Chile Peppers Lecture
DESCRIPTION:When it comes to chile peppers\, there are literally thousands of varieties that come in all shapes\, sizes\, colors and\, of course\, levels of heat. Join the Friends of the Oak Park Conservatory with our guests from the Chile Pepper Institute to learn all about chile peppers! This is a FREE\, virtual event.  A zoom link will be emailed to participants the day of the lecture. \nRegister HERE.
URL:https://fopcon.org/event/chili-peppers-lecture/
LOCATION:Online
CATEGORIES:Upcoming Events
ATTACH;FMTTYPE=image/png:https://fopcon.org/wp-content/uploads/2022/08/b1ce83cc-2edb-4d79-9a71-d633058d990d_chilli_peppers.png
END:VEVENT
BEGIN:VEVENT
DTSTART;TZID=America/Chicago:20220915T190000
DTEND;TZID=America/Chicago:20220915T200000
DTSTAMP:20260419T093128
CREATED:20220831T200755Z
LAST-MODIFIED:20220901T171618Z
UID:10000102-1663268400-1663272000@fopcon.org
SUMMARY:Bulb Planting for Spring Blooms
DESCRIPTION:Join the Conservatory’s Director of Horticulture\, Patti Staley\, to learn about the basics of planting fall bulbs for spring blooms at the free\, virtual event. Participants will learn when and how to plant bulbs\, how to select bulbs for your garden\, and how many you need. Ask your questions on growing bulbs and how to get started.   A zoom link will be sent out to participants the day of the lecture. \nRegister HERE.
URL:https://fopcon.org/event/bulb-planting-for-spring-blooms/
LOCATION:Online
CATEGORIES:Upcoming Events
ATTACH;FMTTYPE=image/png:https://fopcon.org/wp-content/uploads/2020/08/Image-for-Bulbs-member-lecture.png
END:VEVENT
BEGIN:VEVENT
DTSTART;TZID=America/Chicago:20220825T190000
DTEND;TZID=America/Chicago:20220825T200000
DTSTAMP:20260419T093128
CREATED:20220516T195527Z
LAST-MODIFIED:20220516T195803Z
UID:10000028-1661454000-1661457600@fopcon.org
SUMMARY:How to Grow Garlic
DESCRIPTION:Growing garlic is one of the easiest crops to grow.  Join us as we learn when and how to plant\, what type of garlic to grow\, and when to harvest it.  Jerry Ford from Living Song Farm will share his extensive knowledge with us!  Presented by Friends of the Oak Park Conservatory.  A Zoom Link will be provided prior to this FREE event.  \nRegister HERE.
URL:https://fopcon.org/event/how-to-grow-garlic-8-25-22/
LOCATION:Online
CATEGORIES:Community Events,Featured Events,Upcoming Events
ATTACH;FMTTYPE=image/jpeg:https://fopcon.org/wp-content/uploads/2022/05/garlic-e1652730914408.jpg
END:VEVENT
BEGIN:VEVENT
DTSTART;TZID=America/Chicago:20220512T190000
DTEND;TZID=America/Chicago:20220512T200000
DTSTAMP:20260419T093128
CREATED:20220309T184554Z
LAST-MODIFIED:20220505T154924Z
UID:10000025-1652382000-1652385600@fopcon.org
SUMMARY:Gardening with Native Plants
DESCRIPTION:Learn how native plants offer a host of benefits in your garden. West Cook Wild Ones will teach us about native plants: how to select the best plants for shady\, wet and sunny gardens; where to purchase natives; and how to care for them. Register HERE. \nA zoom link will be email to all registrants prior to this FREE event.
URL:https://fopcon.org/event/gardening-with-native-plants/
LOCATION:Online
CATEGORIES:Community Events,Featured Events,Upcoming Events
ATTACH;FMTTYPE=image/jpeg:https://fopcon.org/wp-content/uploads/2022/03/IMG_0218.jpg
END:VEVENT
BEGIN:VEVENT
DTSTART;TZID=America/Chicago:20220420T190000
DTEND;TZID=America/Chicago:20220420T200000
DTSTAMP:20260419T093128
CREATED:20210311T153304Z
LAST-MODIFIED:20220414T144141Z
UID:10000085-1650481200-1650484800@fopcon.org
SUMMARY:Learn and Grow Lectures are back this April!
DESCRIPTION:The Friends of the Oak Park Conservatory Master Gardeners will highlight plants that will be available at our Annual Plant Sale. Come learn with us — programs are for all gardening levels. Registration is required for these free virtual programs. A Zoom link will be sent to participants in advance.  FREE \nApril 6\, 7-8pm – Tomatoes 101 \nLearn the basics of growing tomatoes successfully in this how-to lecture. Join the Friends of the Oak Park Conservatory to learn about the essentials for soil\, sun\, and water. We will also cover caging\, pruning\, and fertilizing. Missed the lecture?  View the video HERE \nApril 13\, 7-8pm – Square Foot Edible Gardening \nAre you interested in learning a method of gardening that makes the most of your space? Join us when the Friends of the Oak Park Conservatory offers expert tips on growing culinary herbs and edibles in raised beds and containers using the Square Foot Method. Learn the basics and get a sneak peek into the varieties of edibles available at The Friends Annual Plant Sale.  Register HERE \nApril 20\, 7-8pm – Behind the Scenes: Meet the Plants \nJoin the Friends of the Oak Park Conservatory to learn about new plants featured at The Friends’ Annual Plant Sale. Plus learn tips and tricks for using annuals to enhance and beautify your garden space. Register HERE \n 
URL:https://fopcon.org/event/learn-and-grow-lectures-are-back/
LOCATION:Online
CATEGORIES:Featured Events,Upcoming Events
ATTACH;FMTTYPE=image/jpeg:https://fopcon.org/wp-content/uploads/2021/03/learn-grow-lecture-april.jpg
END:VEVENT
BEGIN:VEVENT
DTSTART;TZID=America/Chicago:20220308T190000
DTEND;TZID=America/Chicago:20220308T200000
DTSTAMP:20260419T093128
CREATED:20211123T182606Z
LAST-MODIFIED:20220316T144200Z
UID:10000097-1646766000-1646769600@fopcon.org
SUMMARY:Get the Dirt -- Your Garden Questions Answered
DESCRIPTION:Get the Dirt–Your Garden Questions Answered \nJoin us for this Q&A session to get gardening advice and tips from our plant experts. Plus\, you’ll learn what to be doing now in your garden. Come with your Spring gardening questions. Presented by the Friends of the Oak Park Conservatory. Register HERE. \nA zoom link will be email to all registrants prior to this event.
URL:https://fopcon.org/event/get-the-dirt-your-garden-questions-answered-july-20-2021-2/
LOCATION:Online
ATTACH;FMTTYPE=image/jpeg:https://fopcon.org/wp-content/uploads/2020/07/Get-the-Dirt-Graphic-square-1.jpg
END:VEVENT
BEGIN:VEVENT
DTSTART;TZID=America/Chicago:20220224T190000
DTEND;TZID=America/Chicago:20220224T200000
DTSTAMP:20260419T093128
CREATED:20211123T192640Z
LAST-MODIFIED:20211123T192640Z
UID:10000099-1645729200-1645732800@fopcon.org
SUMMARY:The Art of Landscape Design -- February 24\, 2022
DESCRIPTION:**Now VIRTUAL.**  A zoom link will be sent to all registrants. \nAre you curious about the principles of landscape design? How do you approach your garden space with an artistic eye? Join us as the Director of Horticulture for the Oak Park Conservatory shares her deep knowledge of designing gardens large and small. Learn how you can approach your project with consideration for the color palette\, light\, soil conditions\, space constraints\, and more. Presented by the Friends of the Oak Park Conservatory. A Zoom link will be provided in advance of the program. Register HERE.
URL:https://fopcon.org/event/the-art-of-landscape-design/
LOCATION:Online
ATTACH;FMTTYPE=image/jpeg:https://fopcon.org/wp-content/uploads/2021/11/Quick_Sketch_Garden_Design-e1637695557429.jpeg
END:VEVENT
BEGIN:VEVENT
DTSTART;TZID=America/Chicago:20211111T190000
DTEND;TZID=America/Chicago:20211111T200000
DTSTAMP:20260419T093128
CREATED:20210818T161302Z
LAST-MODIFIED:20210818T161302Z
UID:10000019-1636657200-1636660800@fopcon.org
SUMMARY:Grow Your Own Mushrooms! November 11\, 2021
DESCRIPTION:Growing mushrooms is simple\, unique\, and rewarding! Join us for a FREE virtual lecture to learn how you can get started growing gourmet and medicinal mushrooms in your kitchen\, basement\, or backyard.  We will discuss the many ways to grow some of our favorite mushrooms like Shiitake\, Oyster\, Lion’s Mane\, Reishi\, Wine Cap\, and more. Presented by the Friends of the Oak Park Conservatory. Register HERE. \nA zoom link will be emailed to all attendees prior to the event.
URL:https://fopcon.org/event/grow-your-own-mushrooms-november-11-2021/
LOCATION:Online
CATEGORIES:General
ATTACH;FMTTYPE=image/png:https://fopcon.org/wp-content/uploads/2021/08/mushrooms.png
END:VEVENT
BEGIN:VEVENT
DTSTART;TZID=America/Chicago:20211028T190000
DTEND;TZID=America/Chicago:20211028T200000
DTSTAMP:20260419T093128
CREATED:20210818T161602Z
LAST-MODIFIED:20210818T161602Z
UID:10000020-1635447600-1635451200@fopcon.org
SUMMARY:So You Want to Grow an Orchid? October 28\, 2021
DESCRIPTION:Join the Friends of the Oak Park Conservatory along with Kay Perry from the Illinois Orchid Society for a FREE virtual lecture to learn about the care and growing of orchids. Questions answered in this talk: What is an orchid? How much light does it need? How much should I water? Should I really be giving the orchid 3 ice cubes a week? and How do I get my orchid to bloom again? Register HERE. \nA zoom link with be emailed to attendees prior to this event.
URL:https://fopcon.org/event/so-you-want-to-grow-an-orchid-october-28-2021/
LOCATION:Online
CATEGORIES:Community Events,General
ATTACH;FMTTYPE=image/png:https://fopcon.org/wp-content/uploads/2021/08/orchid.png
END:VEVENT
BEGIN:VEVENT
DTSTART;TZID=America/Chicago:20211014T190000
DTEND;TZID=America/Chicago:20211014T200000
DTSTAMP:20260419T093128
CREATED:20210818T161916Z
LAST-MODIFIED:20210818T161916Z
UID:10000091-1634238000-1634241600@fopcon.org
SUMMARY:An Introduction to the Wonderful World of African Violets (Gesneriads): October 14\, 2021
DESCRIPTION:Join us as the Northern Illinois Gesneriad Society President\, Janet Spencer\, presents a FREE virtual lecture on Gesneriads (African violets). Learn about this diverse plant family of over 3\,500 species and countless cultivars that are widely distributed over all continents except Antarctica. You’ll learn variety of form\, size\, color\, and ease of growing these amazing plants. Presented by the Friends of the Oak Park Conservatory. Register HERE.  \nA zoom link will be emailed to all attendees prior to the event.
URL:https://fopcon.org/event/an-introduction-to-the-wonderful-world-of-african-violets-gesneriads-october-14-2021/
LOCATION:Online
CATEGORIES:Community Events,General,Upcoming Events
ATTACH;FMTTYPE=image/png:https://fopcon.org/wp-content/uploads/2021/08/african-violet.png
END:VEVENT
BEGIN:VEVENT
DTSTART;TZID=America/Chicago:20210922T190000
DTEND;TZID=America/Chicago:20210922T200000
DTSTAMP:20260419T093128
CREATED:20210818T162923Z
LAST-MODIFIED:20210818T162923Z
UID:10000094-1632337200-1632340800@fopcon.org
SUMMARY:Designing with Dahlias: September 22\, 2021
DESCRIPTION:Join the Friends of the Oak Park Conservatory as we welcome certified organic grower Tania Cubberly of SkyFall Flowers for a FREE virtual lecture. Tania will introduce us to the beauty of dahlias and discuss the planting\, growing conditions\, and harvesting of this unique flower. Register HERE. \nA zoom link will be emailed to all attendees prior to the event.
URL:https://fopcon.org/event/designing-with-dahlias-september-22-2021/
LOCATION:Online
CATEGORIES:General
ATTACH;FMTTYPE=image/jpeg:https://fopcon.org/wp-content/uploads/2021/08/hamilton-dahlia-scaled.jpeg
END:VEVENT
BEGIN:VEVENT
DTSTART;TZID=America/Chicago:20210720T190000
DTEND;TZID=America/Chicago:20210720T200000
DTSTAMP:20260419T093128
CREATED:20210608T140345Z
LAST-MODIFIED:20210608T140345Z
UID:10000015-1626807600-1626811200@fopcon.org
SUMMARY:Get the Dirt -- Your Garden Questions Answered: July 20\, 2021
DESCRIPTION:Join us for this live virtual Q&A session to get gardening advice and tips from our plant experts. Plus\, you’ll learn what to be doing now in your garden. You can submit questions in advance or come with your questions and our panelists will guide you. Register here for this program on July 20 from 7-8pm. \nA Zoom link will be emailed to you to attend this virtual lecture.
URL:https://fopcon.org/event/get-the-dirt-your-garden-questions-answered-july-20-2021/
LOCATION:Online
CATEGORIES:Community Events,General,Upcoming Events
ATTACH;FMTTYPE=image/jpeg:https://fopcon.org/wp-content/uploads/2020/07/Get-the-Dirt-Graphic-square-1.jpg
END:VEVENT
BEGIN:VEVENT
DTSTART;TZID=America/Chicago:20210603T190000
DTEND;TZID=America/Chicago:20210603T200000
DTSTAMP:20260419T093128
CREATED:20210504T173812Z
LAST-MODIFIED:20210504T173812Z
UID:10000089-1622746800-1622750400@fopcon.org
SUMMARY:Urban Foraging with Nina Lawrin: June 3
DESCRIPTION:You may be surprised by the number of edible plants you encounter every day. Join Nina Lawrin of Loveren Collections for an evening of fun exploration\, possibilities\, and conversation surrounding urban foraging within and around Chicago. Stimulating conversations around human-plant connection\, biodiversity\, and accessibility will be explored along with some foraged food recipes and guidelines. Register here. \nPresented by the Friends of the Oak Park Conservatory.
URL:https://fopcon.org/event/urban-foraging-with-nina-lawrin-june-3/
LOCATION:Online
ATTACH;FMTTYPE=image/jpeg:https://fopcon.org/wp-content/uploads/2021/05/urban-foraging-for-website-e1620150596807.jpg
END:VEVENT
BEGIN:VEVENT
DTSTART;TZID=America/Chicago:20210518T190000
DTEND;TZID=America/Chicago:20210518T200000
DTSTAMP:20260419T093128
CREATED:20210324T161753Z
LAST-MODIFIED:20210324T161753Z
UID:10000087-1621364400-1621368000@fopcon.org
SUMMARY:Get the Dirt -- Your Seasonal Garden Questions Answered: May 18
DESCRIPTION:Join us for this live virtual Q&A session to get gardening advice and tips from our plant experts. Plus\, you’ll learn what to be doing now in your garden. You can submit questions in advance or come with your questions and our panelists will guide you. Register here for this program on May 18 from 7-8pm.
URL:https://fopcon.org/event/get-the-dirt-your-seasonal-garden-questions-answered-may-18/
LOCATION:Online
ATTACH;FMTTYPE=image/jpeg:https://fopcon.org/wp-content/uploads/2020/07/Get-the-Dirt-Graphic-square-1.jpg
END:VEVENT
BEGIN:VEVENT
DTSTART;TZID=America/Chicago:20210225T190000
DTEND;TZID=America/Chicago:20210225T200000
DTSTAMP:20260419T093128
CREATED:20210108T205543Z
LAST-MODIFIED:20210108T205543Z
UID:10000081-1614279600-1614283200@fopcon.org
SUMMARY:Tree and Shrub Pruning Basics: February 25\, 2021
DESCRIPTION:Although it may be cold and snowy outside\, winter is actually the best time of year to prune your deciduous plants. Learn when to get out your pruners\, how to take a critical look at your trees and shrubs\, and the best approach to promote shape and thin your plants before spring. A link to this virtual program will be emailed prior to the event.  This virtual program is presented by the Friends of the Oak Park Conservatory. Ages 18+ \nFREE.  Register here. \nPlease note: The incorrect date was listed on Amilia\, the Park District’s registration site.    The lecture will be held on February 25\, NOT the 24th.
URL:https://fopcon.org/event/tree-and-shrub-pruning-basics/
LOCATION:Online
ATTACH;FMTTYPE=image/png:https://fopcon.org/wp-content/uploads/2021/01/winter_pruning-photo-for-website.png
END:VEVENT
BEGIN:VEVENT
DTSTART;TZID=America/Chicago:20210128T190000
DTEND;TZID=America/Chicago:20210128T200000
DTSTAMP:20260419T093128
CREATED:20210108T211933Z
LAST-MODIFIED:20210108T211933Z
UID:10000084-1611860400-1611864000@fopcon.org
SUMMARY:Seed Starting: January 28
DESCRIPTION:This event has reached maximum capacity.  We will record the seminar and post a link on our website within one week.  Thank you for your support and understanding! \nAre you interested in growing vegetables from seed? Come learn how to start your veggie garden indoors so you can transplant in spring. We’ll cover where to purchase seeds\, how to set up for optimal growth\, how to thin\, and ways to promote strong healthy plants for your garden. This virtual program is presented by the Friends of the Oak Park Conservatory.  A link to this virtual program will be emailed prior to the event. Ages 18+ \nFREE.  Register here.  
URL:https://fopcon.org/event/seed-starting-january-28/
LOCATION:Online
END:VEVENT
BEGIN:VEVENT
DTSTART;TZID=America/Chicago:20201007T190000
DTEND;TZID=America/Chicago:20201007T200000
DTSTAMP:20260419T093128
CREATED:20200821T190038Z
LAST-MODIFIED:20200821T190038Z
UID:10000005-1602097200-1602100800@fopcon.org
SUMMARY:Compost 101 Virtual Lecture: October 7\, 2020
DESCRIPTION:What is compost? How do you incorporate it into your garden and lawn? What are the different types of compost and how do you create your own? This lecture will help you understand how to use organic matter in your garden. FREE for FOPCON members; $10 for non-members. Visit www.fopcon.org to become a member. \nTo register for the event\, click here.
URL:https://fopcon.org/event/compost-101-virtual-lecture-october-7-2020/
LOCATION:Online
ATTACH;FMTTYPE=image/png:https://fopcon.org/wp-content/uploads/2020/08/Compost-101-image.png
END:VEVENT
BEGIN:VEVENT
DTSTART;TZID=America/Chicago:20200917T190000
DTEND;TZID=America/Chicago:20200917T200000
DTSTAMP:20260419T093128
CREATED:20200825T153951Z
LAST-MODIFIED:20200825T153951Z
UID:10000006-1600369200-1600372800@fopcon.org
SUMMARY:Bulb Planting for Spring Blooms 101 Virtual Lecture:  September 17\, 2020
DESCRIPTION:Join bulb experts to learn about the basics of planting fall bulbs for spring blooms. Participants will learn when and how to plant bulbs\, how to select bulbs for your garden\, and how many you need. Ask your questions on growing bulbs and how to get started. FREE. \nRegister here. A zoom link will be sent out to participants the day of the event.
URL:https://fopcon.org/event/bulb-planting-for-spring-blooms-101-virtual-lecture-september-17-2020/
LOCATION:Online
ATTACH;FMTTYPE=image/png:https://fopcon.org/wp-content/uploads/2020/08/Image-for-Bulbs-member-lecture.png
END:VEVENT
BEGIN:VEVENT
DTSTART;TZID=America/Chicago:20200805T190000
DTEND;TZID=America/Chicago:20200805T200000
DTSTAMP:20260419T093128
CREATED:20200701T151300Z
LAST-MODIFIED:20200701T151300Z
UID:10000001-1596654000-1596657600@fopcon.org
SUMMARY:Five Ways to Preserve the Harvest Virtual Lecture: August 5\, 2020
DESCRIPTION:Local food blogger and cookbook author Emily Paster will cover five ways to preserve your garden harvest – from canning to freezing to drying and root-cellaring. Emily will offer in-depth descriptions of fermentation and water-bath canning\, versatile and accessible methods of home food preservation suitable for many common home-grown fruits and vegetables. FREE. \nTo register for the event\, click here.
URL:https://fopcon.org/event/five-ways-to-preserve-the-harvest/
LOCATION:Online
CATEGORIES:General
ATTACH;FMTTYPE=image/jpeg:https://fopcon.org/wp-content/uploads/2020/07/5-ways-to-preserve-image-for-member-lecture-square.jpg
END:VEVENT
BEGIN:VEVENT
DTSTART;TZID=America/Chicago:20200730T190000
DTEND;TZID=America/Chicago:20200730T200000
DTSTAMP:20260419T093128
CREATED:20200701T152949Z
LAST-MODIFIED:20200701T152949Z
UID:10000003-1596135600-1596139200@fopcon.org
SUMMARY:Succulents Virtual Lecture: July 30\, 2020
DESCRIPTION:Learn how to nurture succulents and help them thrive. Discover the best light\, location and humidity for your plants. Plus you’ll learn when and how to repot your plants and how to determine signs of stress. FREE for FOPCON members with code\, $10 for non-members. Visit www.fopcon.org to become a member. \nTo register for the event\, click here.
URL:https://fopcon.org/event/succulents-virtual-lecture-july-30-2020/
LOCATION:Online
CATEGORIES:Upcoming Events
ATTACH;FMTTYPE=image/png:https://fopcon.org/wp-content/uploads/2020/07/Succulents-image-for-member-lecture.png
END:VEVENT
BEGIN:VEVENT
DTSTART;TZID=America/Chicago:20200723T190000
DTEND;TZID=America/Chicago:20200723T200000
DTSTAMP:20260419T093128
CREATED:20200701T152301Z
LAST-MODIFIED:20200701T152301Z
UID:10000002-1595530800-1595534400@fopcon.org
SUMMARY:Get the Dirt -- Your Garden Questions Answered: July 23\, 2020
DESCRIPTION:Join us for this free\, live Q&A session to get gardening advice and tips from our master gardeners and Oak Park Conservatory’s Director of Horticulture. Plus\, you’ll learn what to be doing now in your garden. You can submit questions in advance or come with your questions and our panelists will guide you.  \nTo register\, click here.
URL:https://fopcon.org/event/get-the-dirt-your-garden-questions-answered-july-21-2020/
LOCATION:Online
ATTACH;FMTTYPE=image/jpeg:https://fopcon.org/wp-content/uploads/2020/07/Get-the-Dirt-Graphic-square-1.jpg
END:VEVENT
END:VCALENDAR