BEGIN:VCALENDAR
VERSION:2.0
PRODID:-//Friends of the Oak Park Conservatory - ECPv6.15.20//NONSGML v1.0//EN
CALSCALE:GREGORIAN
METHOD:PUBLISH
X-ORIGINAL-URL:https://fopcon.org
X-WR-CALDESC:Events for Friends of the Oak Park Conservatory
REFRESH-INTERVAL;VALUE=DURATION:PT1H
X-Robots-Tag:noindex
X-PUBLISHED-TTL:PT1H
BEGIN:VTIMEZONE
TZID:America/Chicago
BEGIN:DAYLIGHT
TZOFFSETFROM:-0600
TZOFFSETTO:-0500
TZNAME:CDT
DTSTART:20190310T080000
END:DAYLIGHT
BEGIN:STANDARD
TZOFFSETFROM:-0500
TZOFFSETTO:-0600
TZNAME:CST
DTSTART:20191103T070000
END:STANDARD
BEGIN:DAYLIGHT
TZOFFSETFROM:-0600
TZOFFSETTO:-0500
TZNAME:CDT
DTSTART:20200308T080000
END:DAYLIGHT
BEGIN:STANDARD
TZOFFSETFROM:-0500
TZOFFSETTO:-0600
TZNAME:CST
DTSTART:20201101T070000
END:STANDARD
BEGIN:DAYLIGHT
TZOFFSETFROM:-0600
TZOFFSETTO:-0500
TZNAME:CDT
DTSTART:20210314T080000
END:DAYLIGHT
BEGIN:STANDARD
TZOFFSETFROM:-0500
TZOFFSETTO:-0600
TZNAME:CST
DTSTART:20211107T070000
END:STANDARD
BEGIN:DAYLIGHT
TZOFFSETFROM:-0600
TZOFFSETTO:-0500
TZNAME:CDT
DTSTART:20220313T080000
END:DAYLIGHT
BEGIN:STANDARD
TZOFFSETFROM:-0500
TZOFFSETTO:-0600
TZNAME:CST
DTSTART:20221106T070000
END:STANDARD
END:VTIMEZONE
BEGIN:VEVENT
DTSTART;TZID=America/Chicago:20210922T190000
DTEND;TZID=America/Chicago:20210922T200000
DTSTAMP:20260419T113248
CREATED:20210818T162923Z
LAST-MODIFIED:20210818T162923Z
UID:10000094-1632337200-1632340800@fopcon.org
SUMMARY:Designing with Dahlias: September 22\, 2021
DESCRIPTION:Join the Friends of the Oak Park Conservatory as we welcome certified organic grower Tania Cubberly of SkyFall Flowers for a FREE virtual lecture. Tania will introduce us to the beauty of dahlias and discuss the planting\, growing conditions\, and harvesting of this unique flower. Register HERE. \nA zoom link will be emailed to all attendees prior to the event.
URL:https://fopcon.org/event/designing-with-dahlias-september-22-2021/
LOCATION:Online
CATEGORIES:General
ATTACH;FMTTYPE=image/jpeg:https://fopcon.org/wp-content/uploads/2021/08/hamilton-dahlia-scaled.jpeg
END:VEVENT
BEGIN:VEVENT
DTSTART;TZID=America/Chicago:20210720T190000
DTEND;TZID=America/Chicago:20210720T200000
DTSTAMP:20260419T113248
CREATED:20210608T140345Z
LAST-MODIFIED:20210608T140345Z
UID:10000015-1626807600-1626811200@fopcon.org
SUMMARY:Get the Dirt -- Your Garden Questions Answered: July 20\, 2021
DESCRIPTION:Join us for this live virtual Q&A session to get gardening advice and tips from our plant experts. Plus\, you’ll learn what to be doing now in your garden. You can submit questions in advance or come with your questions and our panelists will guide you. Register here for this program on July 20 from 7-8pm. \nA Zoom link will be emailed to you to attend this virtual lecture.
URL:https://fopcon.org/event/get-the-dirt-your-garden-questions-answered-july-20-2021/
LOCATION:Online
CATEGORIES:Community Events,General,Upcoming Events
ATTACH;FMTTYPE=image/jpeg:https://fopcon.org/wp-content/uploads/2020/07/Get-the-Dirt-Graphic-square-1.jpg
END:VEVENT
BEGIN:VEVENT
DTSTART;TZID=America/Chicago:20210603T190000
DTEND;TZID=America/Chicago:20210603T200000
DTSTAMP:20260419T113248
CREATED:20210504T173812Z
LAST-MODIFIED:20210504T173812Z
UID:10000089-1622746800-1622750400@fopcon.org
SUMMARY:Urban Foraging with Nina Lawrin: June 3
DESCRIPTION:You may be surprised by the number of edible plants you encounter every day. Join Nina Lawrin of Loveren Collections for an evening of fun exploration\, possibilities\, and conversation surrounding urban foraging within and around Chicago. Stimulating conversations around human-plant connection\, biodiversity\, and accessibility will be explored along with some foraged food recipes and guidelines. Register here. \nPresented by the Friends of the Oak Park Conservatory.
URL:https://fopcon.org/event/urban-foraging-with-nina-lawrin-june-3/
LOCATION:Online
ATTACH;FMTTYPE=image/jpeg:https://fopcon.org/wp-content/uploads/2021/05/urban-foraging-for-website-e1620150596807.jpg
END:VEVENT
BEGIN:VEVENT
DTSTART;TZID=America/Chicago:20210518T190000
DTEND;TZID=America/Chicago:20210518T200000
DTSTAMP:20260419T113248
CREATED:20210324T161753Z
LAST-MODIFIED:20210324T161753Z
UID:10000087-1621364400-1621368000@fopcon.org
SUMMARY:Get the Dirt -- Your Seasonal Garden Questions Answered: May 18
DESCRIPTION:Join us for this live virtual Q&A session to get gardening advice and tips from our plant experts. Plus\, you’ll learn what to be doing now in your garden. You can submit questions in advance or come with your questions and our panelists will guide you. Register here for this program on May 18 from 7-8pm.
URL:https://fopcon.org/event/get-the-dirt-your-seasonal-garden-questions-answered-may-18/
LOCATION:Online
ATTACH;FMTTYPE=image/jpeg:https://fopcon.org/wp-content/uploads/2020/07/Get-the-Dirt-Graphic-square-1.jpg
END:VEVENT
BEGIN:VEVENT
DTSTART;TZID=America/Chicago:20210225T190000
DTEND;TZID=America/Chicago:20210225T200000
DTSTAMP:20260419T113248
CREATED:20210108T205543Z
LAST-MODIFIED:20210108T205543Z
UID:10000081-1614279600-1614283200@fopcon.org
SUMMARY:Tree and Shrub Pruning Basics: February 25\, 2021
DESCRIPTION:Although it may be cold and snowy outside\, winter is actually the best time of year to prune your deciduous plants. Learn when to get out your pruners\, how to take a critical look at your trees and shrubs\, and the best approach to promote shape and thin your plants before spring. A link to this virtual program will be emailed prior to the event.  This virtual program is presented by the Friends of the Oak Park Conservatory. Ages 18+ \nFREE.  Register here. \nPlease note: The incorrect date was listed on Amilia\, the Park District’s registration site.    The lecture will be held on February 25\, NOT the 24th.
URL:https://fopcon.org/event/tree-and-shrub-pruning-basics/
LOCATION:Online
ATTACH;FMTTYPE=image/png:https://fopcon.org/wp-content/uploads/2021/01/winter_pruning-photo-for-website.png
END:VEVENT
BEGIN:VEVENT
DTSTART;TZID=America/Chicago:20210128T190000
DTEND;TZID=America/Chicago:20210128T200000
DTSTAMP:20260419T113248
CREATED:20210108T211933Z
LAST-MODIFIED:20210108T211933Z
UID:10000084-1611860400-1611864000@fopcon.org
SUMMARY:Seed Starting: January 28
DESCRIPTION:This event has reached maximum capacity.  We will record the seminar and post a link on our website within one week.  Thank you for your support and understanding! \nAre you interested in growing vegetables from seed? Come learn how to start your veggie garden indoors so you can transplant in spring. We’ll cover where to purchase seeds\, how to set up for optimal growth\, how to thin\, and ways to promote strong healthy plants for your garden. This virtual program is presented by the Friends of the Oak Park Conservatory.  A link to this virtual program will be emailed prior to the event. Ages 18+ \nFREE.  Register here.  
URL:https://fopcon.org/event/seed-starting-january-28/
LOCATION:Online
END:VEVENT
BEGIN:VEVENT
DTSTART;TZID=America/Chicago:20201007T190000
DTEND;TZID=America/Chicago:20201007T200000
DTSTAMP:20260419T113248
CREATED:20200821T190038Z
LAST-MODIFIED:20200821T190038Z
UID:10000005-1602097200-1602100800@fopcon.org
SUMMARY:Compost 101 Virtual Lecture: October 7\, 2020
DESCRIPTION:What is compost? How do you incorporate it into your garden and lawn? What are the different types of compost and how do you create your own? This lecture will help you understand how to use organic matter in your garden. FREE for FOPCON members; $10 for non-members. Visit www.fopcon.org to become a member. \nTo register for the event\, click here.
URL:https://fopcon.org/event/compost-101-virtual-lecture-october-7-2020/
LOCATION:Online
ATTACH;FMTTYPE=image/png:https://fopcon.org/wp-content/uploads/2020/08/Compost-101-image.png
END:VEVENT
BEGIN:VEVENT
DTSTART;TZID=America/Chicago:20200917T190000
DTEND;TZID=America/Chicago:20200917T200000
DTSTAMP:20260419T113248
CREATED:20200825T153951Z
LAST-MODIFIED:20200825T153951Z
UID:10000006-1600369200-1600372800@fopcon.org
SUMMARY:Bulb Planting for Spring Blooms 101 Virtual Lecture:  September 17\, 2020
DESCRIPTION:Join bulb experts to learn about the basics of planting fall bulbs for spring blooms. Participants will learn when and how to plant bulbs\, how to select bulbs for your garden\, and how many you need. Ask your questions on growing bulbs and how to get started. FREE. \nRegister here. A zoom link will be sent out to participants the day of the event.
URL:https://fopcon.org/event/bulb-planting-for-spring-blooms-101-virtual-lecture-september-17-2020/
LOCATION:Online
ATTACH;FMTTYPE=image/png:https://fopcon.org/wp-content/uploads/2020/08/Image-for-Bulbs-member-lecture.png
END:VEVENT
BEGIN:VEVENT
DTSTART;TZID=America/Chicago:20200805T190000
DTEND;TZID=America/Chicago:20200805T200000
DTSTAMP:20260419T113248
CREATED:20200701T151300Z
LAST-MODIFIED:20200701T151300Z
UID:10000001-1596654000-1596657600@fopcon.org
SUMMARY:Five Ways to Preserve the Harvest Virtual Lecture: August 5\, 2020
DESCRIPTION:Local food blogger and cookbook author Emily Paster will cover five ways to preserve your garden harvest – from canning to freezing to drying and root-cellaring. Emily will offer in-depth descriptions of fermentation and water-bath canning\, versatile and accessible methods of home food preservation suitable for many common home-grown fruits and vegetables. FREE. \nTo register for the event\, click here.
URL:https://fopcon.org/event/five-ways-to-preserve-the-harvest/
LOCATION:Online
CATEGORIES:General
ATTACH;FMTTYPE=image/jpeg:https://fopcon.org/wp-content/uploads/2020/07/5-ways-to-preserve-image-for-member-lecture-square.jpg
END:VEVENT
BEGIN:VEVENT
DTSTART;TZID=America/Chicago:20200730T190000
DTEND;TZID=America/Chicago:20200730T200000
DTSTAMP:20260419T113248
CREATED:20200701T152949Z
LAST-MODIFIED:20200701T152949Z
UID:10000003-1596135600-1596139200@fopcon.org
SUMMARY:Succulents Virtual Lecture: July 30\, 2020
DESCRIPTION:Learn how to nurture succulents and help them thrive. Discover the best light\, location and humidity for your plants. Plus you’ll learn when and how to repot your plants and how to determine signs of stress. FREE for FOPCON members with code\, $10 for non-members. Visit www.fopcon.org to become a member. \nTo register for the event\, click here.
URL:https://fopcon.org/event/succulents-virtual-lecture-july-30-2020/
LOCATION:Online
CATEGORIES:Upcoming Events
ATTACH;FMTTYPE=image/png:https://fopcon.org/wp-content/uploads/2020/07/Succulents-image-for-member-lecture.png
END:VEVENT
BEGIN:VEVENT
DTSTART;TZID=America/Chicago:20200723T190000
DTEND;TZID=America/Chicago:20200723T200000
DTSTAMP:20260419T113248
CREATED:20200701T152301Z
LAST-MODIFIED:20200701T152301Z
UID:10000002-1595530800-1595534400@fopcon.org
SUMMARY:Get the Dirt -- Your Garden Questions Answered: July 23\, 2020
DESCRIPTION:Join us for this free\, live Q&A session to get gardening advice and tips from our master gardeners and Oak Park Conservatory’s Director of Horticulture. Plus\, you’ll learn what to be doing now in your garden. You can submit questions in advance or come with your questions and our panelists will guide you.  \nTo register\, click here.
URL:https://fopcon.org/event/get-the-dirt-your-garden-questions-answered-july-21-2020/
LOCATION:Online
ATTACH;FMTTYPE=image/jpeg:https://fopcon.org/wp-content/uploads/2020/07/Get-the-Dirt-Graphic-square-1.jpg
END:VEVENT
END:VCALENDAR